BEGIN:VCALENDAR
VERSION:2.0
PRODID:-//ChamberMaster//Event Calendar 2.0//EN
METHOD:PUBLISH
X-PUBLISHED-TTL:P3D
REFRESH-INTERVAL:P3D
CALSCALE:GREGORIAN
BEGIN:VEVENT
DTSTART:20210709T210000Z
DTEND:20210711T040000Z
X-MICROSOFT-CDO-ALLDAYEVENT:FALSE
SUMMARY:Dry Land Distillers New Location Launch Event
DESCRIPTION:Join Dry Land Distillers for their new location launch party on July 9th and 10th! The distillery has opened their new tasting room at 519 Main Street. Come join the fun with handmade food and treats\, craft cocktails\, award-winning spirits\, and the release of their latest 18-month whiskey. Attendees have the option of purchasing shares in the future "Barrel Zero"\, the first whiskey barrel that will come from the new location.
X-ALT-DESC;FMTTYPE=text/html:Join Dry Land Distillers for their new location launch party on July 9th and 10th! The distillery has opened their new tasting room at 519 Main Street. Come join the fun with handmade food and treats\, craft cocktails\, award-winning spirits\, and the release of their latest 18-month whiskey. Attendees have the option of purchasing shares in the future &quot\;Barrel Zero&quot\;\, the first whiskey barrel that will come from the new location.
LOCATION:519 Main Street\, Longmont\, CO 80501
UID:e.3083.8462
SEQUENCE:3
DTSTAMP:20260424T140244Z
URL:https://members.longmontchamber.org/events/details/dry-land-distillers-new-location-launch-event-8462
END:VEVENT

END:VCALENDAR
