BEGIN:VCALENDAR
VERSION:2.0
PRODID:-//ChamberMaster//Event Calendar 2.0//EN
METHOD:PUBLISH
X-PUBLISHED-TTL:P3D
REFRESH-INTERVAL:P3D
CALSCALE:GREGORIAN
BEGIN:VEVENT
DTSTART:20250123T230000Z
DTEND:20250124T050000Z
X-MICROSOFT-CDO-ALLDAYEVENT:FALSE
SUMMARY:"Dry" Land January Punch Pass - Zero-Proof Cocktails!
DESCRIPTION:We are honoring and welcoming the new year here at Dry Land with fresh new cocktail menus\, including one devoted entirely to the zero-proof cocktail!\n\nJoin us for "Dry" Land January\, starting 1/15 and through to the end of the month and journey along our zero-proof menu of nine delectable house-made and designed cocktails (and one shrub!). You won't even miss the spirits!\n\nWe are offering a punch pass that can be purchased for $75 and used through the end of January during our tasting room hours\, which includes the taste tour of all nine zero-proof cocktails and one rotating shrub!  Any zero-proof option can be subbed for one of equal or lesser value while supplies last. \n\nWe support resetting\, moderation\, intentions\, and celebrate that this does not mean having to deprive ourselves of the pleasures and deliciousness in life!\n\nWe look forward to seeing and serving you and yours\, and a year of community\, connection\, and spirit(s)!\n\nTo Note: we do also have a new Winter full proof cocktail menu launching this week also!
X-ALT-DESC;FMTTYPE=text/html:<p>We are honoring and welcoming the new year here at Dry Land with fresh new cocktail menus\, including one devoted entirely to the zero-proof cocktail!</p>\n\n<p>Join us for &quot\;Dry&quot\; Land January\, starting&nbsp\;1/15 and through to the end of the month and journey along&nbsp\;our zero-proof menu of nine&nbsp\;delectable house-made and designed cocktails (and one shrub!). You won&#39\;t even miss the spirits!</p>\n\n<p>We are offering a punch pass that can be purchased for $75 and used through the end of January during our tasting room hours\, which&nbsp\;includes&nbsp\;the taste tour of all nine&nbsp\;zero-proof cocktails and one rotating shrub!&nbsp\; Any zero-proof option can be subbed for one of equal or lesser value while supplies last.&nbsp\;</p>\n\n<p>We support resetting\, moderation\, intentions\, and celebrate that this does not mean having to deprive ourselves of the pleasures and deliciousness in life!</p>\n\n<p>We look forward to seeing and serving you and yours\, and a year of community\, connection\, and spirit(s)!</p>\n\n<p>To Note: we do also have a new Winter full proof cocktail menu launching this week also!</p>\n
LOCATION:Dry Land Distillers
UID:e.3083.10740
SEQUENCE:3
DTSTAMP:20260421T190257Z
URL:https://members.longmontchamber.org/events/details/dry-land-january-punch-pass-zero-proof-cocktails-10740
END:VEVENT

END:VCALENDAR
