BEGIN:VCALENDAR
VERSION:2.0
PRODID:-//ChamberMaster//Event Calendar 2.0//EN
METHOD:PUBLISH
X-PUBLISHED-TTL:P3D
REFRESH-INTERVAL:P3D
CALSCALE:GREGORIAN
BEGIN:VEVENT
DTSTART:20200715T000000Z
DTEND:20200715T010000Z
X-MICROSOFT-CDO-ALLDAYEVENT:FALSE
SUMMARY:Ed Slott Live! Webinar
DESCRIPTION:Join us for a powerful webinar where we will cover newly enacted tax rules affecting your retirement plans and new strategies to keep more of your hard-earned money.\n\n\n\nIn this must-attend webinar\, we'll discuss:\n\n	How to move your retirement funds from forever taxed to never taxed.\n	How to avoid "stealth taxes" that can quickly wipe out your savings.\n	Who is most at risk of losing their IRAs to needless taxes.\n	The single biggest benefit in the Tax Code.\n	New rules for taking required minimum distributions.\n	More options for contributing to IRAs.\n	Elimination to the stretch IRA - planning options to consider now.\n	New opportunities for Roth IRAs.\n	New ways to provide larger inheritances with less tax.\n	How to avoid the 3 BIGGEST RISKS to your retirement savings.\n\nSpots are limited. Sign up today to reserve your virtual seat!
X-ALT-DESC;FMTTYPE=text/html:Join us for a powerful webinar where we will cover newly enacted tax rules affecting your retirement plans and new strategies to keep more of your hard-earned money.<br />\n<br />\nIn this must-attend webinar\, we&#39\;ll discuss:\n<ul>\n	<li>How to move your retirement funds from forever taxed to never taxed.</li>\n	<li>How to avoid &quot\;stealth taxes&quot\; that can quickly wipe out your savings.</li>\n	<li>Who is most at risk of losing their IRAs to needless taxes.</li>\n	<li>The single biggest benefit in the Tax Code.</li>\n	<li>New rules for taking required minimum distributions.</li>\n	<li>More options for contributing to IRAs.</li>\n	<li>Elimination to the stretch IRA - planning options to consider now.</li>\n	<li>New opportunities for Roth IRAs.</li>\n	<li>New ways to provide larger inheritances with less tax.</li>\n	<li>How to avoid the 3 BIGGEST RISKS to your retirement savings.</li>\n</ul>\nSpots are limited. Sign up today to reserve your virtual seat!&nbsp\;
LOCATION:
UID:e.3083.7620
SEQUENCE:3
DTSTAMP:20260425T103349Z
URL:https://members.longmontchamber.org/events/details/ed-slott-live-webinar-7620
END:VEVENT

END:VCALENDAR
