BEGIN:VCALENDAR
VERSION:2.0
PRODID:-//ChamberMaster//Event Calendar 2.0//EN
METHOD:PUBLISH
X-PUBLISHED-TTL:P3D
REFRESH-INTERVAL:P3D
CALSCALE:GREGORIAN
BEGIN:VEVENT
DTSTART:20210210T203000Z
DTEND:20210210T213000Z
X-MICROSOFT-CDO-ALLDAYEVENT:FALSE
SUMMARY:EDU: Colorado Employment Law Update 2021
DESCRIPTION:Colorado Employment Law Update 2021\n\nTina Harkness\, Director of the Employers Council Northern Regional Office\n\n\n\nJoin the Longmont Chamber for an update on employment law.  Topics to be covered include:\n\nMinimum Wage (COMPS Order 37)\n\nEqual Pay for Equal Work Act\n\nHealthy Families and Workplaces Act (paid sick leave)\n\n\n\n\n\nA Zoom presentation\, you will receive login information when you register.
X-ALT-DESC;FMTTYPE=text/html:<p>Colorado Employment Law Update 2021<br />\nTina Harkness\, Director of the Employers Council Northern Regional Office<br />\n<br />\nJoin the Longmont Chamber for an update on employment law.&nbsp\; Topics to be covered include:<br />\nMinimum Wage (COMPS Order 37)<br />\nEqual Pay for Equal Work Act<br />\nHealthy Families and Workplaces Act (paid sick leave)<br />\n<br />\n<br />\nA Zoom presentation\, you will receive login information when you register.<br />\n<br />\n&nbsp\;</p>\n
LOCATION:A Zoom presentation\, you will receive login information when you register.
UID:e.3083.7753
SEQUENCE:3
DTSTAMP:20260425T005337Z
URL:https://members.longmontchamber.org/events/details/edu-colorado-employment-law-update-2021-7753
END:VEVENT

END:VCALENDAR
