BEGIN:VCALENDAR
VERSION:2.0
PRODID:-//ChamberMaster//Event Calendar 2.0//EN
METHOD:PUBLISH
X-PUBLISHED-TTL:P3D
REFRESH-INTERVAL:P3D
CALSCALE:GREGORIAN
BEGIN:VEVENT
DTSTART:20200311T143000Z
DTEND:20200311T160000Z
X-MICROSOFT-CDO-ALLDAYEVENT:FALSE
SUMMARY:EDU: Internet Security/Password Management
DESCRIPTION:In an era where people are increasingly falling victim to online criminal activities\, it is important for every person to become aware of cybersecurity. In this presentation\, Floyd Kelley\, a 20+ year professional with Information Technology and Cybersecurity\, will outline what he calls the "Security Triad" consisting of the creation of stronger passwords by using Password Management tools\, utilizing 2-step verification with online accounts\, and spotting email phishing scams.\n\n \n\nPresented by Floyd Kelley\, IT Technician\, High Plains Bank
X-ALT-DESC;FMTTYPE=text/html:<span style="color:#222222\;"><span style="font-family:arial\,sans-serif\;">In an era where people are increasingly falling victim to online criminal activities\, it is important for every person to become aware of cybersecurity. In this presentation\, Floyd Kelley\, a 20+ year professional with Information Technology and Cybersecurity\, will outline what he calls the &quot\;Security Triad&quot\; consisting of the creation of stronger passwords by using Password Management tools\, utilizing 2-step verification with online accounts\, and spotting email phishing scams.</span></span><br />\n&nbsp\;<br />\n<span style="background:white\;"><span style="color:#222222\;"><span style="font-family:arial\,sans-serif\;">Presented by Floyd Kelley\, IT Technician\, High Plains Bank</span></span></span>
LOCATION:Longmont Area Chamber of Commerce 528 Main St. Longmont\, CO 80501
UID:e.3083.7132
SEQUENCE:3
DTSTAMP:20260425T165938Z
URL:https://members.longmontchamber.org/events/details/edu-internet-security-password-management-7132
END:VEVENT

END:VCALENDAR
