BEGIN:VCALENDAR
VERSION:2.0
PRODID:-//ChamberMaster//Event Calendar 2.0//EN
METHOD:PUBLISH
X-PUBLISHED-TTL:P3D
REFRESH-INTERVAL:P3D
CALSCALE:GREGORIAN
BEGIN:VEVENT
DTSTART:20200212T153000Z
DTEND:20200212T170000Z
X-MICROSOFT-CDO-ALLDAYEVENT:FALSE
SUMMARY:EDU: Maximizing Social Security For Retirement
DESCRIPTION:For Many Americans\, Social Security is the single largest asset they have in retirement. The decisions you make today can have a tremendous impact on the total amount of benefits you stand to receive over your lifetime. \n\nThis educational workshop will provide you with much needed information to help you understand the system\, coordinate spousal and survivor benefits\, minimize taxes\, and maximize your personal benefits.\n\nWhether you're single\, married\, divorced\, or widowed\, there may be ways to maximize the lifetime Social Security benefits you receive.\n\n \n\nPresented by Ryan Mason\, CFP \, AAMS \, with Main Street Investments\, and Raymond James Financial Advisor
X-ALT-DESC;FMTTYPE=text/html:<span style="font-family:arial\,sans-serif\;">For Many Americans\, Social Security is the single largest asset they have in retirement. The decisions you make today can have a tremendous impact on the total amount of benefits you stand to receive over your lifetime. </span><br />\n<span style="font-family:arial\,sans-serif\;">This educational workshop will provide you with much needed information to help you understand the system\, coordinate spousal and survivor benefits\, minimize taxes\, and maximize your personal benefits.</span><br />\n<span style="font-family:arial\,sans-serif\;">Whether you&rsquo\;re single\, married\, divorced\, or widowed\, there may be ways to maximize the lifetime Social Security benefits you receive.</span><br />\n&nbsp\;<br />\n<span style="background-image:initial\;background-position:initial\;background-size:initial\;background-repeat:initial\;background-attachment:initial\;background-origin:initial\;background-clip:initial\;"><span style="color:#222222\;"><span style="font-family:arial\,sans-serif\;"><span style="font-size:11pt\;">Presented by Ryan Mason\, CFP&reg\;\, AAMS&reg\;\, with Main Street Investments\, and Raymond James Financial Advisor</span></span></span></span>
LOCATION:Longmont Area Chamber of Commerce 528 Main St. Longmont\, CO 80501
UID:e.3083.7126
SEQUENCE:3
DTSTAMP:20260425T182458Z
URL:https://members.longmontchamber.org/events/details/edu-maximizing-social-security-for-retirement-7126
END:VEVENT

END:VCALENDAR
