BEGIN:VCALENDAR
VERSION:2.0
PRODID:-//ChamberMaster//Event Calendar 2.0//EN
METHOD:PUBLISH
X-PUBLISHED-TTL:P3D
REFRESH-INTERVAL:P3D
CALSCALE:GREGORIAN
BEGIN:VEVENT
DTSTART:20190920T143000Z
DTEND:20190920T160000Z
X-MICROSOFT-CDO-ALLDAYEVENT:FALSE
SUMMARY:EDU: Medicare Solutions
DESCRIPTION:Learn the basics about the types of coverage\, eligibility requirements\, how to determine which coverage is right for you. And more! \n\nPresented by Raeann Larsen of Premier Insurance Products\, LLC.
X-ALT-DESC;FMTTYPE=text/html:<p><span style="color:black\;"><span style="font-family:arial\,sans-serif\;">Learn the basics about the types of coverage\, eligibility requirements\, how to determine which coverage is right for you. And more! </span></span></p>\n\n<p><span style="color:black\;"><span style="font-family:arial\,sans-serif\;">Presented by Raeann Larsen of&nbsp\;Premier Insurance Products\, LLC.</span></span></p>\n
LOCATION:Longmont Area Chamber of Commerce 528 Main St. Longmont\, CO 80501
UID:e.3083.7120
SEQUENCE:3
DTSTAMP:20260426T024101Z
URL:https://members.longmontchamber.org/events/details/edu-medicare-solutions-09-20-2019-7120
END:VEVENT

END:VCALENDAR
