BEGIN:VCALENDAR
VERSION:2.0
PRODID:-//ChamberMaster//Event Calendar 2.0//EN
METHOD:PUBLISH
X-PUBLISHED-TTL:P3D
REFRESH-INTERVAL:P3D
CALSCALE:GREGORIAN
BEGIN:VEVENT
DTSTART:20190925T233000Z
DTEND:20190926T010000Z
X-MICROSOFT-CDO-ALLDAYEVENT:FALSE
SUMMARY:EDU: Medicare Solutions
DESCRIPTION:Learn the basics about the types of coverage\, eligibility requirements\, how to determine which coverage is right for you. And more!\n\n\n\nPresented by Raeann Larsen of Premier Insurance Products\, LLC.
X-ALT-DESC;FMTTYPE=text/html:<span style="color:black\;"><span style="font-family:arial\,sans-serif\;">Learn the basics about the types of coverage\, eligibility requirements\, how to determine which coverage is right for you. And more!<br />\n<br />\nPresented by Raeann Larsen of&nbsp\;Premier Insurance Products\, LLC.</span></span>
LOCATION:Longmont Area Chamber of Commerce 528 Main St. Longmont\, CO 80501
UID:e.3083.7121
SEQUENCE:3
DTSTAMP:20260426T023824Z
URL:https://members.longmontchamber.org/events/details/edu-medicare-solutions-7121
END:VEVENT

END:VCALENDAR
