BEGIN:VCALENDAR
VERSION:2.0
PRODID:-//ChamberMaster//Event Calendar 2.0//EN
METHOD:PUBLISH
X-PUBLISHED-TTL:P3D
REFRESH-INTERVAL:P3D
CALSCALE:GREGORIAN
BEGIN:VEVENT
DTSTART:20210203T203000Z
DTEND:20210203T213000Z
X-MICROSOFT-CDO-ALLDAYEVENT:FALSE
SUMMARY:EDU: Payroll Tax Credits
DESCRIPTION:Educational event with Mike Pharris Local CPA and Chamber Ambassador. This event is purely educational to help answer questions for local businesses about the new qualifications for Payroll Tax Credits they may be eligible for. There will be a 30 minute presentation and then 30 minutes for Q&A.\n\nWe'll discuss how the Employee Retention Tax Credits work in conjunction with PPP loans for 2020 and 2021.  You'll learn what is required to qualify for the credits\, how to estimate what their benefits might be and how to claim them.\n\nFor 2021 these ERTCs could be quite valuable.  If your business is still seeing revenue impacts due to Covid\, or is under government restrictions related to Covid\, the credits could reduce your payroll tax deposits or create refunds on your quarterly payroll tax return.
X-ALT-DESC;FMTTYPE=text/html:<p style="font-weight:400\; line-height: 1.7em\;">Educational event with Mike Pharris Local CPA and Chamber Ambassador. This event is purely educational to help answer questions for local businesses about the new qualifications for Payroll Tax Credits they may be eligible for. There will be a 30 minute presentation and then 30 minutes for Q&amp\;A.</p>\n\n<p style="font-weight:400\; line-height: 1.7em\;">We&rsquo\;ll discuss how the Employee Retention Tax Credits work in conjunction with PPP loans for 2020 and 2021.&nbsp\; You&rsquo\;ll learn what is required to qualify for the credits\, how to estimate what their benefits might be and how to claim them.</p>\n\n<p style="font-weight:400\; line-height: 1.7em\;">For 2021 these ERTCs could be quite valuable.&nbsp\; If your business is still seeing revenue impacts due to Covid\, or is under government restrictions related to Covid\, the credits could reduce your payroll tax deposits or create refunds on your quarterly payroll tax return.</p>\n
LOCATION:This educational event will take place over Zoom. Register for call information!
UID:e.3083.7704
SEQUENCE:3
DTSTAMP:20260424T231853Z
URL:https://members.longmontchamber.org/events/details/edu-payroll-tax-credits-7704
END:VEVENT

END:VCALENDAR
