BEGIN:VCALENDAR
VERSION:2.0
PRODID:-//ChamberMaster//Event Calendar 2.0//EN
METHOD:PUBLISH
X-PUBLISHED-TTL:P3D
REFRESH-INTERVAL:P3D
CALSCALE:GREGORIAN
BEGIN:VEVENT
DTSTART:20201209T153000Z
DTEND:20201209T170000Z
X-MICROSOFT-CDO-ALLDAYEVENT:FALSE
SUMMARY:EDU: Protect Yourself from Identity Theft and Fraud
DESCRIPTION:Class Taught by Detective Steve Desmond\, Longmont Police Department\n\n  Learn about the different types of identity theft and ways to protect yourself from having your identity stolen. Learn what steps to take if your identity is stolen.\n\n  Learn about the different types of fraud\; including mail fraud\, telemarketing\, romance scams and online scams. Learn how to protect yourself from fraud.\n\n  Detective Desmond is a 26 year police veteran who specializes in Financial Crime
X-ALT-DESC;FMTTYPE=text/html:Class Taught by Detective Steve Desmond\, Longmont Police Department<br />\n&#9679\; Learn about the different types of identity theft and ways to protect yourself from having your identity stolen. Learn what steps to take if your identity is stolen.<br />\n&#9679\; Learn about the different types of fraud\; including mail fraud\, telemarketing\, romance scams and online scams. Learn how to protect yourself from fraud.<br />\n&#9679\; Detective Desmond is a 26 year police veteran who specializes in Financial Crime
LOCATION:This is a virtual Zoom Event. Zoom meeting information will be emailed upon completed registration.
UID:e.3083.7699
SEQUENCE:3
DTSTAMP:20260425T034849Z
URL:https://members.longmontchamber.org/events/details/edu-protect-yourself-from-identity-theft-and-fraud-7699
END:VEVENT

END:VCALENDAR
