BEGIN:VCALENDAR
VERSION:2.0
PRODID:-//ChamberMaster//Event Calendar 2.0//EN
METHOD:PUBLISH
X-PUBLISHED-TTL:P3D
REFRESH-INTERVAL:P3D
CALSCALE:GREGORIAN
BEGIN:VEVENT
DTSTART:20200601T160000Z
DTEND:20200601T180000Z
X-MICROSOFT-CDO-ALLDAYEVENT:FALSE
SUMMARY:EDU: Sales Made Easy
DESCRIPTION:*Close more sales\, make more money\, and serve more people\n\n*Be completely authentic in the sales process\n\n*Overcome any personal resistance or discomfort with sales conversations\n\n*Be of service and contribute to prospective clients through your sales process so everyone feels good whether they become your client or not\n\n*Respond effectively to prospects concerns such as "I can't afford it"\, "I need to think about it" and more  \n\n* Live the Five Laws of Success.\n\n\n\nPresentation by Zoilita Grant
X-ALT-DESC;FMTTYPE=text/html:<span style="color: rgb(60\, 135\, 191)\; font-family: Helvetica\, sans-serif\; background-color: rgb(252\, 252\, 252)\;">*Close more sales\, make more money\, and serve more people</span><br style="box-sizing: border-box\; color: rgb(60\, 135\, 191)\; font-family: Helvetica\, sans-serif\; background-color: rgb(252\, 252\, 252)\;" />\n<span style="color: rgb(60\, 135\, 191)\; font-family: Helvetica\, sans-serif\; background-color: rgb(252\, 252\, 252)\;">*Be completely authentic in the sales process</span><br style="box-sizing: border-box\; color: rgb(60\, 135\, 191)\; font-family: Helvetica\, sans-serif\; background-color: rgb(252\, 252\, 252)\;" />\n<span style="color: rgb(60\, 135\, 191)\; font-family: Helvetica\, sans-serif\; background-color: rgb(252\, 252\, 252)\;">*Overcome any personal resistance or discomfort with sales conversations</span><br style="box-sizing: border-box\; color: rgb(60\, 135\, 191)\; font-family: Helvetica\, sans-serif\; background-color: rgb(252\, 252\, 252)\;" />\n<span style="color: rgb(60\, 135\, 191)\; font-family: Helvetica\, sans-serif\; background-color: rgb(252\, 252\, 252)\;">*Be of service and contribute to prospective clients through your sales process so everyone feels good whether they become your client or not</span><br style="box-sizing: border-box\; color: rgb(60\, 135\, 191)\; font-family: Helvetica\, sans-serif\; background-color: rgb(252\, 252\, 252)\;" />\n<span style="color: rgb(60\, 135\, 191)\; font-family: Helvetica\, sans-serif\; background-color: rgb(252\, 252\, 252)\;">*Respond effectively to prospects concerns such as &ldquo\;I can&rsquo\;t afford it&rdquo\;\, &ldquo\;I need to think about it&rdquo\; and more &hellip\;</span><br style="box-sizing: border-box\; color: rgb(60\, 135\, 191)\; font-family: Helvetica\, sans-serif\; background-color: rgb(252\, 252\, 252)\;" />\n<span style="color: rgb(60\, 135\, 191)\; font-family: Helvetica\, sans-serif\; background-color: rgb(252\, 252\, 252)\;">* Live the Five Laws of Success.<br />\n<br />\nPresentation by Zoilita Grant</span>
LOCATION:LACC 528 Main St. Longmont\, CO 80501
UID:e.3083.7321
SEQUENCE:3
DTSTAMP:20260425T120425Z
URL:https://members.longmontchamber.org/events/details/edu-sales-made-easy-7321
END:VEVENT

END:VCALENDAR
