BEGIN:VCALENDAR
VERSION:2.0
PRODID:-//ChamberMaster//Event Calendar 2.0//EN
METHOD:PUBLISH
X-PUBLISHED-TTL:P3D
REFRESH-INTERVAL:P3D
CALSCALE:GREGORIAN
BEGIN:VEVENT
DTSTART:20191009T233000Z
DTEND:20191010T010000Z
X-MICROSOFT-CDO-ALLDAYEVENT:FALSE
SUMMARY:EDU: Senior Home Care Options
DESCRIPTION:Do you need help caring for a loved one and don't know where to start? We'll explore the various options for elder care\, costs\, insurance coverage and more!  Each attendee will receive a free 52 page guide "Where Do We Begin? A Guide to Elder Caregiving." \n\nPresented by Lorri Flint of Synergy Home Care
X-ALT-DESC;FMTTYPE=text/html:<span style="background:white\;"><span style="color:#222222\;"><span style="font-family:arial\,sans-serif\;">Do you need help caring for a loved one and don&#39\;t know where to start? We&#39\;ll explore the various options for&nbsp\;elder care\, costs\, insurance coverage and more!&nbsp\; Each attendee will receive a free 52 page guide <em>&quot\;Where Do We&nbsp\;Begin? A Guide to Elder Caregiving.&quot\;</em>&nbsp\;<br />\nPresented by Lorri Flint of Synergy Home Care </span></span></span>
LOCATION:High Plains Bank 600 Kimbark St. Longmont\, CO 80501
UID:e.3083.7122
SEQUENCE:3
DTSTAMP:20260426T024059Z
URL:https://members.longmontchamber.org/events/details/edu-senior-home-care-options-7122
END:VEVENT

END:VCALENDAR
