BEGIN:VCALENDAR
VERSION:2.0
PRODID:-//ChamberMaster//Event Calendar 2.0//EN
METHOD:PUBLISH
X-PUBLISHED-TTL:P3D
REFRESH-INTERVAL:P3D
CALSCALE:GREGORIAN
BEGIN:VEVENT
DTSTART:20191023T143000Z
DTEND:20191023T160000Z
X-MICROSOFT-CDO-ALLDAYEVENT:FALSE
SUMMARY:EDU: Senior Home Care Options
DESCRIPTION:Do you need help caring for a loved one and don't know where to start? We'll explore the various options for elder care\, costs\, insurance coverage and more!  Each attendee will receive a free 52 page guide "Where Do We Begin? A Guide to Elder Caregiving." \n\nPresented by Lorri Flint of Synergy Home Care
X-ALT-DESC;FMTTYPE=text/html:<span style="color: rgb(34\, 34\, 34)\; font-family: arial\, sans-serif\;">Do you need help caring for a loved one and don&#39\;t know where to start? We&#39\;ll explore the various options for&nbsp\;elder care\, costs\, insurance coverage and more!&nbsp\; Each attendee will receive a free 52 page guide&nbsp\;</span><em style="color: rgb(34\, 34\, 34)\; font-family: arial\, sans-serif\;">&quot\;Where Do We&nbsp\;Begin? A Guide to Elder Caregiving.&quot\;</em><span style="color: rgb(34\, 34\, 34)\; font-family: arial\, sans-serif\;">&nbsp\;</span><br style="color: rgb(34\, 34\, 34)\; font-family: arial\, sans-serif\;" />\n<span style="color: rgb(34\, 34\, 34)\; font-family: arial\, sans-serif\;">Presented by Lorri Flint of Synergy Home Care</span>
LOCATION:Longmont Area Chamber of Commerce 528 Main St. Longmont\, CO 80501
UID:e.3083.7123
SEQUENCE:3
DTSTAMP:20260426T005417Z
URL:https://members.longmontchamber.org/events/details/edu-senior-home-care-options-7123
END:VEVENT

END:VCALENDAR
