BEGIN:VCALENDAR
VERSION:2.0
PRODID:-//ChamberMaster//Event Calendar 2.0//EN
METHOD:PUBLISH
X-PUBLISHED-TTL:P3D
REFRESH-INTERVAL:P3D
CALSCALE:GREGORIAN
BEGIN:VEVENT
DTSTART:20200513T160000Z
DTEND:20200513T173000Z
X-MICROSOFT-CDO-ALLDAYEVENT:FALSE
SUMMARY:EDU: Taking Care of Business\; It's More Than Meets The Eye
DESCRIPTION:We have all heard the phrase\, "Business is business\," but is it really? Behind every business is a human being. Are we taking care of the human part of ourselves that allows us to take the best care of our business? Most of us are so caught up in the "busy-ness" of our everyday life\, that we don't spend the time that is needed to develop meaningful relationships with our partners\, children\, friends and colleagues that\, ironically\, lead us to the life and career that we are striving to have.\n\n\n\nPresnentation by Dr. Stacy Goresko
X-ALT-DESC;FMTTYPE=text/html:We have all heard the phrase\, &ldquo\;Business is business\,&rdquo\; but is it really? Behind every business is a human being. Are we taking care of the human part of ourselves that allows us to take the best care of our business? Most of us are so caught up in the &ldquo\;busy-ness&rdquo\; of our everyday life\, that we don&rsquo\;t spend the time that is needed to develop meaningful relationships with our partners\, children\, friends and colleagues that\, ironically\, lead us to the life and career that we are striving to have.<br />\n<br />\nPresnentation by Dr. Stacy Goresko
LOCATION:LACC 528 Main St. Longmont\, CO 80501
UID:e.3083.7320
SEQUENCE:3
DTSTAMP:20260425T135155Z
URL:https://members.longmontchamber.org/events/details/edu-taking-care-of-business-it-s-more-than-meets-the-eye-7320
END:VEVENT

END:VCALENDAR
