BEGIN:VCALENDAR
VERSION:2.0
PRODID:-//ChamberMaster//Event Calendar 2.0//EN
METHOD:PUBLISH
X-PUBLISHED-TTL:P3D
REFRESH-INTERVAL:P3D
CALSCALE:GREGORIAN
BEGIN:VEVENT
DTSTART:20200109T003000Z
DTEND:20200109T020000Z
X-MICROSOFT-CDO-ALLDAYEVENT:FALSE
SUMMARY:EDU: Your Estate Planning Foundation
DESCRIPTION:Learn how to use Wills and Trusts to ensure that your wishes are carried out after your death\, and the use of Powers of Attorney and Living Wills to meet your needs during your lifetime. Presented by John Estes Associate of Kapsak Law Firm\, LLC
X-ALT-DESC;FMTTYPE=text/html:<span style="background:white\;"><span style="color:black\;"><span style="font-family:arial\,sans-serif\;">Learn how to use Wills and Trusts to ensure that your wishes are carried out after your death\, and the use of Powers of Attorney and Living Wills to meet your needs during your lifetime. </span></span></span><span style="background:white\;"><span style="color:#222222\;"><span style="font-family:arial\,sans-serif\;">Presented by John Estes Associate of Kapsak Law Firm\, LLC</span></span></span>
LOCATION:Longmont Area Chamber of Commerce 528 Main St. Longmont\, CO 80501
UID:e.3083.7124
SEQUENCE:3
DTSTAMP:20260425T201620Z
URL:https://members.longmontchamber.org/events/details/edu-your-estate-planning-foundation-7124
END:VEVENT

END:VCALENDAR
