BEGIN:VCALENDAR
VERSION:2.0
PRODID:-//ChamberMaster//Event Calendar 2.0//EN
METHOD:PUBLISH
X-PUBLISHED-TTL:P3D
REFRESH-INTERVAL:P3D
CALSCALE:GREGORIAN
BEGIN:VEVENT
DTSTART:20201112T230000Z
DTEND:20201113T000000Z
X-MICROSOFT-CDO-ALLDAYEVENT:FALSE
SUMMARY:Education Committee
DESCRIPTION:The Education Committee builds bridges between businesses and the education community to create an empowered and dynamic future workforce. Help make business connections with the St. Vrain Valley School District\, Front Range Community College and other Chamber-member schools to build the business leaders of tomorrow.
X-ALT-DESC;FMTTYPE=text/html:<span style="font-size:12px\;"><span style="color: rgb(0\, 0\, 0)\; font-family: Verdana\;">The Education Committee builds bridges between businesses and the education community to create an empowered and dynamic future workforce. Help make business connections with the St. Vrain Valley School District\, Front Range Community College and other Chamber-member schools to build the business leaders of tomorrow.</span></span>
LOCATION:Longmont Area Chamber of Commerce Conference Room 528 Main Street Longmont
UID:e.3083.7379
SEQUENCE:3
DTSTAMP:20260425T034658Z
URL:https://members.longmontchamber.org/events/details/education-committee-11-12-2020-7379
END:VEVENT

END:VCALENDAR
