BEGIN:VCALENDAR
VERSION:2.0
PRODID:-//ChamberMaster//Event Calendar 2.0//EN
METHOD:PUBLISH
X-PUBLISHED-TTL:P3D
REFRESH-INTERVAL:P3D
CALSCALE:GREGORIAN
BEGIN:VEVENT
DTSTART:20240918T220000Z
DTEND:20240918T230000Z
X-MICROSOFT-CDO-ALLDAYEVENT:FALSE
SUMMARY:Education Committee Meeting
DESCRIPTION:The Education Committee builds bridges between businesses and the education community to create an empowered and dynamic future workforce. Help make business connections with the St. Vrain Valley School District\, Chamber-member schools and Front Range Community College to build the business leaders of tomorrow.
X-ALT-DESC;FMTTYPE=text/html:The Education Committee builds bridges between businesses and the education community to create an empowered and dynamic future workforce. Help make business connections with the St. Vrain Valley School District\, Chamber-member schools and Front Range Community College to build the business leaders of tomorrow.
LOCATION:Education Committee meetings are in hybrid format. Conference Room at Longmont Chamber\, 528 Main Street
UID:e.3083.10041
SEQUENCE:3
DTSTAMP:20260422T013748Z
URL:https://members.longmontchamber.org/events/details/education-committee-meeting-09-18-2024-10041
END:VEVENT

END:VCALENDAR
