BEGIN:VCALENDAR
VERSION:2.0
PRODID:-//ChamberMaster//Event Calendar 2.0//EN
METHOD:PUBLISH
X-PUBLISHED-TTL:P3D
REFRESH-INTERVAL:P3D
CALSCALE:GREGORIAN
BEGIN:VEVENT
DTSTART:20221208T230000Z
DTEND:20221209T000000Z
X-MICROSOFT-CDO-ALLDAYEVENT:FALSE
SUMMARY:Education Committee Meeting
DESCRIPTION:The Education Committee builds bridges between businesses and the education community to create an empowered and dynamic future workforce. Help make business connections with the St. Vrain Valley School District and Front Range Community College to build the business leaders of tomorrow.
X-ALT-DESC;FMTTYPE=text/html:The Education Committee builds bridges between businesses and the education community to create an empowered and dynamic future workforce. Help make business connections with the St. Vrain Valley School District and Front Range Community College to build the business leaders of tomorrow.
LOCATION:Education Committee is currently meeting via Zoom.
UID:e.3083.8639
SEQUENCE:3
DTSTAMP:20260423T113444Z
URL:https://members.longmontchamber.org/events/details/education-committee-meeting-12-08-2022-8639
END:VEVENT

END:VCALENDAR
