BEGIN:VCALENDAR
VERSION:2.0
PRODID:-//ChamberMaster//Event Calendar 2.0//EN
METHOD:PUBLISH
X-PUBLISHED-TTL:P3D
REFRESH-INTERVAL:P3D
CALSCALE:GREGORIAN
BEGIN:VEVENT
DTSTART:20231207T230000Z
DTEND:20231208T000000Z
X-MICROSOFT-CDO-ALLDAYEVENT:FALSE
SUMMARY:Education Committee Meeting
DESCRIPTION:The Education Committee builds bridges between businesses and the education community to create an empowered and dynamic future workforce. Help make business connections with the St. Vrain Valley School District and Front Range Community College to build the business leaders of tomorrow.
X-ALT-DESC;FMTTYPE=text/html:The Education Committee builds bridges between businesses and the education community to create an empowered and dynamic future workforce. Help make business connections with the St. Vrain Valley School District and Front Range Community College to build the business leaders of tomorrow.
LOCATION:Times Collaborative 338 Main Street Longmont CO 80501
UID:e.3083.9281
SEQUENCE:3
DTSTAMP:20260422T170016Z
URL:https://members.longmontchamber.org/events/details/education-committee-meeting-12-14-2023-9281
END:VEVENT

END:VCALENDAR
