BEGIN:VCALENDAR
VERSION:2.0
PRODID:-//ChamberMaster//Event Calendar 2.0//EN
METHOD:PUBLISH
X-PUBLISHED-TTL:P3D
REFRESH-INTERVAL:P3D
CALSCALE:GREGORIAN
BEGIN:VEVENT
DTSTART:20250315T163000Z
DTEND:20250315T190000Z
X-MICROSOFT-CDO-ALLDAYEVENT:FALSE
SUMMARY:Empty Bowls (Benefit for OUR Center's Meal Program)
DESCRIPTION:Join OUR Center for our 22nd Annual Empty Bowls event on Saturday\, March 15 at Longmont High School! All proceeds benefit OUR Community Cafe\, providing nutritious meals 365 days/year to those in need in the St. Vrain Valley.\n\n\n\nOur fundraiser will feature fabulous bowls painted or hand-crafted by community members\, yummy soups from local restaurants and caterers\, and an online auction after the event (with preview of items at the event).  Each ticket includes your choice of a ceramic or pottery bowl to take home as a reminder of those who face hunger every day.  At the event\, select two soups from our generous food donors to enjoy with family and friends.  Up to 800 people attend this community-favorite event!\n\n\n\nTo become a cash sponsor or purchase tickets\, visit www.ourcenter.org/emptybowls\, call 303-772-5529\, or email elaine@ourcenter.org.  Sponsorships start at $500 and include tickets and recognition.  Tickets are $25 each ($30 at the door if available).  To donate an auction item\, call 303-772-5529 or email ellen@ourcenter.org.\n\nSilent auction bidding is online only\, March 15 1pm through March 17 8pm\, at www.32auctions.com/emptybowls2025.\n\n\n\nPaint a bowl at Crackpots to donate to the event! Deadline is February 28 (tax-deductible cost is $18 + tax per bowl.)  Parties of 8 or more are strongly encouraged to schedule ahead of time. Visit www.ecrackpots.com or call 303-776-2211 for more information.
X-ALT-DESC;FMTTYPE=text/html:Join OUR Center for our 22nd Annual Empty Bowls event on Saturday\, March 15 at Longmont High School! All proceeds benefit OUR Community Cafe\, providing nutritious meals 365 days/year to those in need in the St. Vrain Valley.<br />\n<br />\nOur fundraiser will feature fabulous bowls painted or hand-crafted by community members\, yummy soups from local restaurants and caterers\, and an online auction after the event (with preview of items at the event).&nbsp\; Each ticket includes your choice of a ceramic or pottery bowl to take home as a reminder of those who face hunger every day.&nbsp\; At the event\, select two soups from our generous food donors to enjoy with family and friends.&nbsp\; Up to 800 people attend this community-favorite event!<br />\n<br />\nTo become a cash sponsor or purchase tickets\, visit www.ourcenter.org/emptybowls\, call 303-772-5529\, or email elaine@ourcenter.org.&nbsp\; Sponsorships start at $500 and include tickets and recognition.&nbsp\; Tickets are $25 each ($30 at the door if available).&nbsp\; To donate an auction item\, call 303-772-5529 or email ellen@ourcenter.org.<br />\nSilent auction bidding is online only\, March 15 1pm through March 17 8pm\, at www.32auctions.com/emptybowls2025.<br />\n<br />\nPaint a bowl at Crackpots to donate to the event! Deadline is February 28 (tax-deductible cost is $18 + tax per bowl.)&nbsp\; Parties of 8 or more are strongly encouraged to schedule ahead of time. Visit www.ecrackpots.com or call 303-776-2211 for more information.
LOCATION:Longmont High School
UID:e.3083.10744
SEQUENCE:3
DTSTAMP:20260421T160119Z
URL:https://members.longmontchamber.org/events/details/empty-bowls-benefit-for-our-center-s-meal-program-10744
END:VEVENT

END:VCALENDAR
