BEGIN:VCALENDAR
VERSION:2.0
PRODID:-//ChamberMaster//Event Calendar 2.0//EN
METHOD:PUBLISH
X-PUBLISHED-TTL:P3D
REFRESH-INTERVAL:P3D
CALSCALE:GREGORIAN
BEGIN:VEVENT
DTSTART:20210513T170000Z
DTEND:20210513T180000Z
X-MICROSOFT-CDO-ALLDAYEVENT:FALSE
SUMMARY:Energy Efficiency: Building Tune-ups
DESCRIPTION:Energy Efficiency through Building Tune-Ups\n\n\n\nEnergy efficiency can help an older building seem new again. On May 13\, speakers from the Efficiency Works program and Longmont Power & Communications will discuss what a "building tune-up" could do for your business. You'll also find out the latest on efficiency rebates for small and large businesses\, so that you can power yourself up for savings. \n\nMay 13\, 2021\, 11am-noon.  Register now to receive Zoom login information.
X-ALT-DESC;FMTTYPE=text/html:<p>Energy Efficiency through Building Tune-Ups<br />\n<br />\nEnergy efficiency can help an older building seem new again. On May 13\, speakers from the Efficiency Works program and Longmont Power &amp\; Communications will discuss what a &ldquo\;building tune-up&rdquo\; could do for your business. You&rsquo\;ll also find out the latest on efficiency rebates for small and large businesses\, so that you can power yourself up for savings.&nbsp\;</p>\n\n<p>May 13\, 2021\, 11am-noon.&nbsp\; Register now to&nbsp\;receive&nbsp\;Zoom login information.</p>\n
LOCATION:Zoom presentation. Register to receive Zoom login information.
UID:e.3083.8186
SEQUENCE:3
DTSTAMP:20260424T170424Z
URL:https://members.longmontchamber.org/events/details/energy-efficiency-building-tune-ups-8186
END:VEVENT

END:VCALENDAR
