BEGIN:VCALENDAR
VERSION:2.0
PRODID:-//ChamberMaster//Event Calendar 2.0//EN
METHOD:PUBLISH
X-PUBLISHED-TTL:P3D
REFRESH-INTERVAL:P3D
CALSCALE:GREGORIAN
BEGIN:VEVENT
DTSTART:20191211T160000Z
DTEND:20191211T170000Z
X-MICROSOFT-CDO-ALLDAYEVENT:FALSE
SUMMARY:Enterprise Zone Educational Event
DESCRIPTION:Are you in the Enterprise Zone and eligible to receive 2020 tax credits? Attend this informative event to learn about the enterprise zone and the possible income tax credits your business can receive!\n\n\n\nThis educational session will be led by Wendi Nafziger with the Longmont EDP.  Wendi\, is the state of Colorado designated North Metro Enterprise Zone administrator. All questions\, requests for assistance\, and all pre-certification and certification approvals go through the Longmont EDP office. Contact Wendi Nafziger with any questions\, wendi@longmont.org. \n\n\n\nThe Enterprise Zone (EZ) is a state funded program that was created to promote a business-friendly environment in economically distressed areas by offering state income tax credits that incentivize businesses to locate and develop in - and non-profit organizations to assist with the needs of - these communities. Areas of Longmont\, Lafayette\, and Broomfield recently received the North Metro Enterprise Zone designation.
X-ALT-DESC;FMTTYPE=text/html:Are you in the Enterprise Zone and eligible to receive 2020 tax credits? Attend this informative event to learn about the enterprise zone and the possible income tax credits your business can receive!<br />\n<br />\nThis educational session will be led by Wendi Nafziger with the Longmont EDP.&nbsp\; Wendi\, is the state of Colorado designated North Metro Enterprise Zone administrator. All questions\, requests for assistance\, and all pre-certification and certification approvals go through the Longmont EDP office. Contact Wendi Nafziger with any questions\, wendi@longmont.org.&nbsp\;<br />\n<br />\nThe Enterprise Zone (EZ) is a state funded program that was created to promote a business-friendly environment in economically distressed areas by offering state income tax credits that incentivize businesses to locate and develop in - and non-profit organizations to assist with the needs of - these communities. Areas of Longmont\, Lafayette\, and Broomfield recently received the North Metro Enterprise Zone designation.
LOCATION:Longmont Area Chamber of Commerce Conference Room 528 Main St. Longmont\, Co 80501
UID:e.3083.7358
SEQUENCE:3
DTSTAMP:20260425T213727Z
URL:https://members.longmontchamber.org/events/details/enterprise-zone-educational-event-7358
END:VEVENT

END:VCALENDAR
