BEGIN:VCALENDAR
VERSION:2.0
PRODID:-//ChamberMaster//Event Calendar 2.0//EN
METHOD:PUBLISH
X-PUBLISHED-TTL:P3D
REFRESH-INTERVAL:P3D
CALSCALE:GREGORIAN
BEGIN:VEVENT
DTSTART:20251115T163000Z
DTEND:20251115T173000Z
X-MICROSOFT-CDO-ALLDAYEVENT:FALSE
SUMMARY:Exit Planning for Business Owners
DESCRIPTION:As a business owner\, having an exit strategy helps define how you'll leave your business\, and it gives you a clear road map of what steps you can take to ensure a successful transition\, on your terms. \n\n\n\nJoin us for Business owner exit planning.  \n\nStart with the end in mind and learn:\n\n\n	What is succession or exit planning?\n	Why you should start exit planning now\n	Five steps to help you get started\n\n\nCoffee and donuts provided\n\n\n\nPresented by Wayne Granger\, Financial Advisor - Certified Exit Planning Advisor (CEPA)\n\nRSVP to wayne.granger@edwardjones.com or 720-815-5051
X-ALT-DESC;FMTTYPE=text/html:<p><span style="font-size:16px\;">As a business owner\, having an exit strategy helps define how you&rsquo\;ll leave your business\, and it gives you a clear road map of what steps you can take to ensure a successful transition\, on your terms.&nbsp\;<br />\n<br />\nJoin us for Business owner exit planning.&nbsp\;&nbsp\;<br />\nStart with the end in mind and learn:</span></p>\n\n<ul>\n	<li><span style="font-size:16px\;">What is succession or exit planning?</span></li>\n	<li><span style="font-size:16px\;">Why you should start exit planning now</span></li>\n	<li><span style="font-size:16px\;">Five steps to help you get started</span></li>\n</ul>\n\n<p><span style="font-size:16px\;">Coffee and donuts provided<br />\n<br />\nPresented by Wayne Granger\, Financial Advisor - Certified Exit Planning Advisor (CEPA)<br />\nRSVP to <a href="mailto:wayne.granger@edwardjones.com">wayne.granger@edwardjones.com</a> or 720-815-5051</span></p>\n\n<p><br />\n&nbsp\;</p>\n
LOCATION:Edward Jones
UID:e.3083.14610
SEQUENCE:3
DTSTAMP:20260421T045708Z
URL:https://members.longmontchamber.org/events/details/exit-planning-for-business-owners-14610
END:VEVENT

END:VCALENDAR
