BEGIN:VCALENDAR
VERSION:2.0
PRODID:-//ChamberMaster//Event Calendar 2.0//EN
METHOD:PUBLISH
X-PUBLISHED-TTL:P3D
REFRESH-INTERVAL:P3D
CALSCALE:GREGORIAN
BEGIN:VEVENT
DTSTART:20240920T230000Z
DTEND:20240921T010000Z
X-MICROSOFT-CDO-ALLDAYEVENT:FALSE
SUMMARY:Fall-iday Party
DESCRIPTION:Join us for the Longmont Chamber Fall-iday Party\, a seasonal business networking event made to reconnect Chamber members returning from their summer adventures! Whether you're looking to catch up with old friends or make new connections\, the Fall-iday Party is the perfect opportunity to expand your network and get back to business. Don't miss out on this chance to mix\, mingle\, and kick off the season with fellow professionals!\n\n\n\nThis networking event immediately follows a ribbon cutting for our hosts\, BAS1S Architecture\, who will be celebrating 25 years in business! Show up earlier for some extra networking and to congratulate BAS1S on this momentous milestone.
X-ALT-DESC;FMTTYPE=text/html:Join us for the Longmont Chamber Fall-iday Party\, a seasonal business networking event made to reconnect Chamber members returning from their summer adventures! Whether you&#39\;re looking to catch up with old friends or make new connections\, the Fall-iday Party is the perfect opportunity to expand your network and get back to business. Don&rsquo\;t miss out on this chance to mix\, mingle\, and kick off the season with fellow professionals!<br />\n<br />\nThis networking event immediately follows a ribbon cutting for our hosts\, BAS1S Architecture\, who will be celebrating 25 years in business! Show up earlier for some extra networking and to congratulate BAS1S on this momentous milestone.
LOCATION:BAS1S Architecture 2007 100 Year Party Ct Longmont\, CO 80504
UID:e.3083.10176
SEQUENCE:3
DTSTAMP:20260422T013318Z
URL:https://members.longmontchamber.org/events/details/fall-iday-party-10176
END:VEVENT

END:VCALENDAR
