BEGIN:VCALENDAR
VERSION:2.0
PRODID:-//ChamberMaster//Event Calendar 2.0//EN
METHOD:PUBLISH
X-PUBLISHED-TTL:P3D
REFRESH-INTERVAL:P3D
CALSCALE:GREGORIAN
BEGIN:VEVENT
DTSTART:20220929T230000Z
DTEND:20220930T020000Z
X-MICROSOFT-CDO-ALLDAYEVENT:FALSE
SUMMARY:Farm to Table Dinner\, a Longmont Restaurant Week event
DESCRIPTION:Please join us on Thursday\, September 29th for a Farm to Table Dinner to kick off Longmont Restaurant Week (October 7-16)!\n\nThe Longmont Restaurant Week Farm to Table Dinner is a celebration of our growing food & beverage scene and Longmont's agricultural past\, present and future. We believe what makes the food richer\, the drinks crisper and the camaraderie more lively in Longmont is a love and appreciation for what's grown and made in this community we call home.\n\nThis Farm to Table dinner is hosted by the Longmont Area Chamber of Commerce in partnership with Slow Food Boulder County. It is an exclusive opportunity to ring in the 5th annual Longmont Restaurant Week and is a culinary celebration of food you won't want to miss!\n\nDinner and appetizers will be prepared and served by GB Culinary\, with drinks available for purchase from Dry Land Distillers.\n\nEvent capacity is limited to 50 seats\, so get your tickets now!\n\n\n\nClick here to get tickets!
X-ALT-DESC;FMTTYPE=text/html:<p>Please join us on Thursday\, September 29th for a Farm to Table Dinner to kick off Longmont Restaurant Week (October 7-16)!</p>\n\n<p>The Longmont Restaurant Week Farm to Table Dinner is a celebration of our growing food &amp\; beverage scene and Longmont&#39\;s agricultural past\, present and future. We believe what makes the food richer\, the drinks crisper and the camaraderie more lively in Longmont is a love and appreciation for what&#39\;s grown and made in this community we call home.</p>\n\n<p>This Farm to Table dinner is hosted by the Longmont Area Chamber of Commerce in partnership with Slow Food Boulder County. It is an exclusive opportunity to ring in the 5th annual Longmont Restaurant Week and is a culinary celebration of food you won&#39\;t want to miss!</p>\n\n<p>Dinner and appetizers will be prepared and served by GB Culinary\, with drinks available for purchase from Dry Land Distillers.</p>\n\n<p>Event capacity is limited to 50 seats\, so get your tickets now!<br />\n<br />\n<a href="https://secure.givelively.org/event/slow-food-usa-inc-boulder-co/longmont-restaurant-week-farm-to-table-dinner"><strong><span style="font-size:20px\;">Click here to get tickets!</span></strong></a></p>\n
LOCATION:Boulder County Fairgrounds Picnic Shelter 9595 Nelson Road Longmont CO\, 80501
UID:e.3083.9093
SEQUENCE:3
DTSTAMP:20260423T175001Z
URL:https://members.longmontchamber.org/events/details/farm-to-table-dinner-a-longmont-restaurant-week-event-9093
END:VEVENT

END:VCALENDAR
