BEGIN:VCALENDAR
VERSION:2.0
PRODID:-//ChamberMaster//Event Calendar 2.0//EN
METHOD:PUBLISH
X-PUBLISHED-TTL:P3D
REFRESH-INTERVAL:P3D
CALSCALE:GREGORIAN
BEGIN:VEVENT
DTSTART:20251128T010000Z
DTEND:20251128T040000Z
X-MICROSOFT-CDO-ALLDAYEVENT:FALSE
SUMMARY:FestGarten Cornhole
DESCRIPTION:Cornhole League every Thursday in the Wibby Festgarten @ 6pm.\n\nComing alone? Not to fret\, If you don't have a team\, we can pair you up.\n\nAll ages environment however league play is restricted to 21+. Weekly winners and prizes!
X-ALT-DESC;FMTTYPE=text/html:<span style="font-size:15px">Cornhole League every Thursday in the Wibby Festgarten @ 6pm.<br />\nComing alone? Not to fret\, If you don&#39\;t have a team\, we can pair you up.</span><br />\n<span style="font-size:15px">All ages environment however league play is restricted to 21+. Weekly winners and prizes!</span>
LOCATION:Wibby Brewing
UID:e.3083.14265
SEQUENCE:3
DTSTAMP:20260421T033305Z
URL:https://members.longmontchamber.org/events/details/festgarten-cornhole-11-27-2025-14265
END:VEVENT

END:VCALENDAR
