BEGIN:VCALENDAR
VERSION:2.0
PRODID:-//ChamberMaster//Event Calendar 2.0//EN
METHOD:PUBLISH
X-PUBLISHED-TTL:P3D
REFRESH-INTERVAL:P3D
CALSCALE:GREGORIAN
BEGIN:VEVENT
DTSTART:20250222T010000Z
DTEND:20250222T020000Z
X-MICROSOFT-CDO-ALLDAYEVENT:FALSE
SUMMARY:Festival of Cultures @ Flagstaff Academy Charter School
DESCRIPTION:Join us on Friday\, Feb. 21\, at 6 p.m. for an exciting evening celebrating the diversity of our local community at the Flagstaff Academy Charter School Festival of Cultures event! This special gathering will showcase the unique traditions\, customs\, and flavors of various cultures.\n\nThis is a free\, public event. We encourage everyone to come out and support this wonderful celebration of diversity!\n\nWe look forward to seeing you there.
X-ALT-DESC;FMTTYPE=text/html:<p>Join us on Friday\, Feb. 21\, at 6 p.m. for an exciting evening celebrating the diversity of our local community at the Flagstaff Academy Charter School&nbsp\;<em>Festival of Cultures</em>&nbsp\;event! This special gathering will showcase the unique traditions\, customs\, and flavors of various cultures.</p>\n\n<p>This is a free\, public event. We encourage everyone to come out and support this wonderful celebration of diversity!</p>\n\n<p>We look forward to seeing you there.</p>\n
LOCATION:Flagstaff Academy Charter School
UID:e.3083.10757
SEQUENCE:3
DTSTAMP:20260421T190507Z
URL:https://members.longmontchamber.org/events/details/festival-of-cultures-flagstaff-academy-charter-school-10757
END:VEVENT

END:VCALENDAR
