BEGIN:VCALENDAR
VERSION:2.0
PRODID:-//ChamberMaster//Event Calendar 2.0//EN
METHOD:PUBLISH
X-PUBLISHED-TTL:P3D
REFRESH-INTERVAL:P3D
CALSCALE:GREGORIAN
BEGIN:VEVENT
DTSTART:20221124T013000Z
DTEND:20221124T050000Z
X-MICROSOFT-CDO-ALLDAYEVENT:FALSE
SUMMARY:Fiesta Latina Longmont
DESCRIPTION:Salsa Bachata\n\n6:30p Dance Lesson\n\n7p -10p Dance Party\n\n$10 at the door
X-ALT-DESC;FMTTYPE=text/html:<span style="color:rgb(5\, 5\, 5)\; font-family:segoe ui historic\,segoe ui\,helvetica\,arial\,sans-serif\; font-size:15px">Salsa Bachata</span><br />\n<span style="color:rgb(5\, 5\, 5)\; font-family:segoe ui historic\,segoe ui\,helvetica\,arial\,sans-serif\; font-size:15px">6:30p Dance Lesson</span><br />\n<span style="color:rgb(5\, 5\, 5)\; font-family:segoe ui historic\,segoe ui\,helvetica\,arial\,sans-serif\; font-size:15px">7p -10p Dance Party</span><br />\n<span style="color:rgb(5\, 5\, 5)\; font-family:segoe ui historic\,segoe ui\,helvetica\,arial\,sans-serif\; font-size:15px">$10 at the door</span>
LOCATION:The Times Collaborative 338 Main St Longmont\, CO 80501
UID:e.3083.9255
SEQUENCE:3
DTSTAMP:20260423T130652Z
URL:https://members.longmontchamber.org/events/details/fiesta-latina-longmont-9255
END:VEVENT

END:VCALENDAR
