BEGIN:VCALENDAR
VERSION:2.0
PRODID:-//ChamberMaster//Event Calendar 2.0//EN
METHOD:PUBLISH
X-PUBLISHED-TTL:P3D
REFRESH-INTERVAL:P3D
CALSCALE:GREGORIAN
BEGIN:VEVENT
DTSTART:20250820T233000Z
DTEND:20250821T010000Z
X-MICROSOFT-CDO-ALLDAYEVENT:FALSE
SUMMARY:Fondue Date Night
DESCRIPTION:Date Night at The Kuper is here!\n\n\n\nSpend your Wednesdays with us for date night and enjoy a cheese fondue platter with a pre-selected bottle of wine for $75. The selection of wine will include a red\, white or sparkling and will vary from week to week. You have the option to upgrade to your favorite bottle for an additional fee. The cheese fondue platter will have all the yummy nibbles needed to dip in a warm\, gooey traditional cheese fondue. \n\n\n\n$75 is for 2 people - includes Fondue platter & bottle of wine\n\n\n\nSeating time is 5:30 only with a 90 minute limit.
X-ALT-DESC;FMTTYPE=text/html:<span style="color:rgb(43\, 43\, 43)\; font-family:oracle\,helvetica\,sans-serif\; font-size:16px">Date Night at The Kuper is here!</span><br />\n<br />\n<span style="color:rgb(43\, 43\, 43)\; font-family:oracle\,helvetica\,sans-serif\; font-size:16px">Spend your Wednesdays with us for date night and enjoy a cheese fondue platter with a pre-selected bottle of wine for $75. The selection of wine will include a red\, white or sparkling and will vary from week to week. You have the option to upgrade to your favorite bottle for an additional fee. The cheese fondue platter will have all the yummy nibbles needed to dip in a warm\, gooey traditional cheese fondue.&nbsp\;</span><br />\n<br />\n<span style="color:rgb(43\, 43\, 43)\; font-family:oracle\,helvetica\,sans-serif\; font-size:16px">$75 is for 2 people - includes Fondue platter &amp\; bottle of wine</span><br />\n<br />\n<span style="color:rgb(43\, 43\, 43)\; font-family:oracle\,helvetica\,sans-serif\; font-size:16px">Seating time is 5:30 only with a 90 minute limit.</span>
LOCATION:Kuper Wine Bar
UID:e.3083.11152
SEQUENCE:3
DTSTAMP:20260421T093827Z
URL:https://members.longmontchamber.org/events/details/fondue-date-night-08-20-2025-11152
END:VEVENT

END:VCALENDAR
