BEGIN:VCALENDAR
VERSION:2.0
PRODID:-//ChamberMaster//Event Calendar 2.0//EN
METHOD:PUBLISH
X-PUBLISHED-TTL:P3D
REFRESH-INTERVAL:P3D
CALSCALE:GREGORIAN
BEGIN:VEVENT
DTSTART:20230920T230000Z
DTEND:20230921T030000Z
X-MICROSOFT-CDO-ALLDAYEVENT:FALSE
SUMMARY:Fondue Date Night at The Kuper
DESCRIPTION:Join us at The Kuper for the wildly-popular Fondue Date Night each Wednesday!\n\n\n\nYou and your date will enjoy a specially-created cheese fondue platter and a bottle of wine of your choosing for only $75. The best deal in Longmont for your weekly date night. \n\n\n\nWe will offer seatings at 5:30pm and 7:30pm for your convenience. \n\n\n\nThese limited seatings fill up fast so don't miss out. You can book on our website or by calling us at 303-834-8902. \n\n\n\nWe look forward to hosting you on this special night.\n\nCheers!
X-ALT-DESC;FMTTYPE=text/html:Join us at The Kuper for the wildly-popular Fondue Date Night each Wednesday!<br />\n<br />\nYou and your date will enjoy a specially-created cheese fondue platter and a bottle of wine of your choosing for only $75. The best deal in Longmont for your weekly date night.&nbsp\;<br />\n<br />\nWe will offer seatings at 5:30pm and 7:30pm for your convenience.&nbsp\;<br />\n<br />\nThese limited seatings fill up fast so don&#39\;t miss out. You can book on our <a href="https://shop.kuperwinebar.com/Reservation-Events">website</a>&nbsp\;or by calling us at 303-834-8902.&nbsp\;<br />\n<br />\nWe look forward to hosting you on this special night.<br />\nCheers!
LOCATION:The Kuper Wine Bar - 600 Longs Peak Avenue Unit H Longmont\, CO 80501
UID:e.3083.9735
SEQUENCE:3
DTSTAMP:20260422T215317Z
URL:https://members.longmontchamber.org/events/details/fondue-date-night-at-the-kuper-09-20-2023-9735
END:VEVENT

END:VCALENDAR
