BEGIN:VCALENDAR
VERSION:2.0
PRODID:-//ChamberMaster//Event Calendar 2.0//EN
METHOD:PUBLISH
X-PUBLISHED-TTL:P3D
REFRESH-INTERVAL:P3D
CALSCALE:GREGORIAN
BEGIN:VEVENT
DTSTART:20250711T230000Z
DTEND:20250712T020000Z
X-MICROSOFT-CDO-ALLDAYEVENT:FALSE
SUMMARY:Free Backyard BBQ & Concert w/Annie McGregor & Moose Tang w/Steph Lujan
DESCRIPTION:Join us in the backyard at Butterscotch for a cozy\, come-as-you-are evening of live music\, good vibes\, and community. \n\nMark Venezia will be on grill duty\, serving up delicious bites (available by donation)\, and it's BYOB so bring your favorite drink\, a snack if you'd like\, and maybe a chair or blanket (though we'll have extras\, too). Let's hang\, eat\, and enjoy some great tunes together under the Longmont sky.
X-ALT-DESC;FMTTYPE=text/html:<p style="text-align:initial"><br />\n<span style="background-color:var(--ricos-custom-p-background-color\,unset)"><span style="font-size:20px\;">Join us in the backyard at Butterscotch for a cozy\, come-as-you-are evening of live music\, good vibes\, and community. </span></span></p>\n\n<p style="text-align:initial"><span style="font-size:20px\;"><span style="background-color:var(--ricos-custom-p-background-color\,unset)">Mark Venezia will be on grill duty\, serving up delicious bites (available by donation)\, and it&#39\;s BYOB&mdash\;so bring your favorite drink\, a snack if you&#39\;d like\, and maybe a chair or blanket (though we&rsquo\;ll have extras\, too). Let&rsquo\;s hang\, eat\, and enjoy some great tunes together under the Longmont sky.</span></span></p>\n
LOCATION:Butterscotch Studios
UID:e.3083.13571
SEQUENCE:3
DTSTAMP:20260421T095535Z
URL:https://members.longmontchamber.org/events/details/free-backyard-bbq-concert-w-annie-mcgregor-moose-tang-w-steph-lujan-13571
END:VEVENT

END:VCALENDAR
