BEGIN:VCALENDAR
VERSION:2.0
PRODID:-//ChamberMaster//Event Calendar 2.0//EN
METHOD:PUBLISH
X-PUBLISHED-TTL:P3D
REFRESH-INTERVAL:P3D
CALSCALE:GREGORIAN
BEGIN:VEVENT
DTSTART:20250505T230000Z
DTEND:20250506T010000Z
X-MICROSOFT-CDO-ALLDAYEVENT:FALSE
SUMMARY:FREE: Pots and Petals\; Mothers day's craft celebration
DESCRIPTION:Enjoy a free Mother's Day family event!\n\nCreate a unique gift by painting a pot and planting a beautiful flower for your mom.\n\nThis fun afternoon is perfect for all ages\, so come together to bond\, create\, and show your appreciation for the amazing women in your lives.  Don't miss out on this chance to make memorable gifts for Mom!
X-ALT-DESC;FMTTYPE=text/html:<p><span style="font-size:22px\;">Enjoy a free Mother&#39\;s Day family event!</span></p>\n\n<p><span style="font-size:22px\;">Create a unique gift by painting a pot and planting a beautiful flower for your mom.</span></p>\n\n<p><span style="font-size:22px\;">This fun afternoon is perfect for all ages\, so come together to bond\, create\, and show your appreciation for the amazing women in your lives.&nbsp\; Don&rsquo\;t miss out on this chance to make memorable gifts for Mom!</span></p>\n
LOCATION:
UID:e.3083.13311
SEQUENCE:3
DTSTAMP:20260421T143458Z
URL:https://members.longmontchamber.org/events/details/free-pots-and-petals-mothers-day-s-craft-celebration-13311
END:VEVENT

END:VCALENDAR
