BEGIN:VCALENDAR
VERSION:2.0
PRODID:-//ChamberMaster//Event Calendar 2.0//EN
METHOD:PUBLISH
X-PUBLISHED-TTL:P3D
REFRESH-INTERVAL:P3D
CALSCALE:GREGORIAN
BEGIN:VEVENT
DTSTART:20200330T140000Z
DTEND:20200330T150000Z
X-MICROSOFT-CDO-ALLDAYEVENT:FALSE
SUMMARY:Free Virtual Networking for Businesses of Northern Colorado
DESCRIPTION:Join us as we host Virtual Networking! Showcase your business\, engage in socializing with your peers and stay top of mind.  Go to our website to learn more and get signed up.
X-ALT-DESC;FMTTYPE=text/html:<h1><span style="color:#ff6633"><span style="font-family:verdana"><span style="font-size:18.0pt">Join us as we host </span></span></span><span style="color:#0000cc"><span style="font-family:verdana"><span style="font-size:18.0pt">Virtual Networking</span></span></span><span style="color:#ff6633"><span style="font-family:verdana"><span style="font-size:18.0pt">! Showcase your business\, engage in socializing with your peers and stay top of mind.&nbsp\; Go to our website to learn more and get signed up.</span></span></span></h1>\n
LOCATION:Remotely and In Person (Per CDC guidelines) 200 East 7th Street\, STE 200 Loveland\, CO 80537
UID:e.3083.7572
SEQUENCE:3
DTSTAMP:20260425T182805Z
URL:https://members.longmontchamber.org/events/details/free-virtual-networking-for-businesses-of-northern-colorado-7572
END:VEVENT

END:VCALENDAR
