BEGIN:VCALENDAR
VERSION:2.0
PRODID:-//ChamberMaster//Event Calendar 2.0//EN
METHOD:PUBLISH
X-PUBLISHED-TTL:P3D
REFRESH-INTERVAL:P3D
CALSCALE:GREGORIAN
BEGIN:VEVENT
DTSTART;VALUE=DATE:20250824
DTEND;VALUE=DATE:20250825
TRANSP:TRANSPARENT
X-MICROSOFT-CDO-ALLDAYEVENT:TRUE
SUMMARY:Fuel the Future – Smoothie King Longmont 1-Year Anniversary Celebration
DESCRIPTION:Join us at Smoothie King Longmont for Fuel the Future\, our 1-Year Anniversary Celebration! This full-day community event is our way of saying thank you to Longmont for an incredible first year.\n\nGuests will enjoy:\n\n\n	\n	Exclusive early access to our brand-new Power Eats menu (available here before the national launch!)\n	\n	\n	Free samples throughout the day\n	\n	\n	Hourly giveaways and a chance to spin our prize wheel when you connect with us on social media\n	\n	\n	A family-friendly celebration centered on health\, energy\, and community\n	\n\n\nAs a veteran-owned local business\, we're committed to fueling purpose and wellness in Longmont. This event is open to all   stop by to celebrate with us\, enjoy great flavors\, and discover new ways to fuel your active lifestyle.
X-ALT-DESC;FMTTYPE=text/html:<p><span style="font-size:18px\;">Join us at Smoothie King Longmont for <em>Fuel the Future</em>\, our <strong>1-Year Anniversary Celebration</strong>! This full-day community event is our way of saying thank you to Longmont for an incredible first year.</span></p>\n\n<p><span style="font-size:18px\;">Guests will enjoy:</span></p>\n\n<ul>\n	<li>\n	<p><span style="font-size:18px\;"><strong>Exclusive early access</strong> to our brand-new <strong>Power Eats menu</strong> (available here before the national launch!)</span></p>\n	</li>\n	<li>\n	<p><span style="font-size:18px\;">Free samples throughout the day</span></p>\n	</li>\n	<li>\n	<p><span style="font-size:18px\;">Hourly giveaways and a chance to spin our prize wheel when you connect with us on social media</span></p>\n	</li>\n	<li>\n	<p><span style="font-size:18px\;">A family-friendly celebration centered on health\, energy\, and community</span></p>\n	</li>\n</ul>\n\n<p><span style="font-size:18px\;">As a <strong>veteran-owned local business</strong>\, we&rsquo\;re committed to fueling purpose and wellness in Longmont. This event is open to all &mdash\; stop by to celebrate with us\, enjoy great flavors\, and discover new ways to fuel your active lifestyle.</span></p>\n
LOCATION:Smoothie King Longmont
UID:e.3083.14220
SEQUENCE:3
DTSTAMP:20260421T082906Z
URL:https://members.longmontchamber.org/events/details/fuel-the-future-smoothie-king-longmont-1-year-anniversary-celebration-14220
END:VEVENT

END:VCALENDAR
