BEGIN:VCALENDAR
VERSION:2.0
PRODID:-//ChamberMaster//Event Calendar 2.0//EN
METHOD:PUBLISH
X-PUBLISHED-TTL:P3D
REFRESH-INTERVAL:P3D
CALSCALE:GREGORIAN
BEGIN:VEVENT
DTSTART:20251218T230000Z
DTEND:20251219T030000Z
X-MICROSOFT-CDO-ALLDAYEVENT:FALSE
SUMMARY:Fundraiser Night for Mindful Founders Inc! Panera Bread - Longmont
DESCRIPTION:Fundraiser for MINDFUL FOUNDERS INC\n\n\n\nEvent URL:\n\nhttps://fundraising.panerabread.com/share/rRb9HUXSMGj9E3JwacZ0\n\n\n\nWhere:\n\nPanera Bread\n\n425 Ken Pratt Boulevard\n\nLongmont\, CO 80501\n\n\n\nWhen:\n\nDecember 18\, 2025 from 4:00 pm to 8:00 pm\n\n\n\nPayout:\n\n20% of Receipts\n\n\n\nApproved By:\n\nPanera Bread
X-ALT-DESC;FMTTYPE=text/html:<p><span style="font-size:14px"><span style="font-family:arial\,helvetica\,sans-serif"><span style="color:#000000">Fundraiser for MINDFUL FOUNDERS INC<br />\n<br />\n<strong>Event URL:</strong></span><br />\n<a font-size:="" href="https://track.pstmrk.it/3s/fundraising.panerabread.com%2Fshare%2FrRb9HUXSMGj9E3JwacZ0/Dx9L/pRjHAQ/AQ/5e546b1c-bc0a-4db3-9062-9963f98507ba/2/jYMbPaUtFP" open="" style="color: rgb(56\, 105\, 212)\; font-family: " target="_blank"><span style="color:#000000">https://fundraising.panerabread.com/share/rRb9HUXSMGj9E3JwacZ0</span></a><br />\n<br />\n<span style="color:#000000"><strong>Where:</strong><br />\nPanera&nbsp\;Bread<br />\n425 Ken Pratt Boulevard<br />\nLongmont\, CO 80501<br />\n<br />\n<strong>When:</strong><br />\nDecember 18\, 2025 from 4:00 pm to 8:00 pm<br />\n<br />\n<strong>Payout:</strong><br />\n20% of Receipts<br />\n<br />\n<strong>Approved By:</strong><br />\nPanera&nbsp\;Bread</span></span></span><br />\n&nbsp\;</p>\n
LOCATION:Panera
UID:e.3083.14470
SEQUENCE:3
DTSTAMP:20260421T015753Z
URL:https://members.longmontchamber.org/events/details/fundraiser-night-for-mindful-founders-inc-panera-bread-longmont-14470
END:VEVENT

END:VCALENDAR
