BEGIN:VCALENDAR
VERSION:2.0
PRODID:-//ChamberMaster//Event Calendar 2.0//EN
METHOD:PUBLISH
X-PUBLISHED-TTL:P3D
REFRESH-INTERVAL:P3D
CALSCALE:GREGORIAN
BEGIN:VEVENT
DTSTART:20250913T230000Z
DTEND:20250914T030000Z
X-MICROSOFT-CDO-ALLDAYEVENT:FALSE
SUMMARY:Gala at the Ranch – Under the Stars
DESCRIPTION:Join us for an unforgettable evening where the magic of Medicine Horse comes alive beneath the breathtaking Colorado sky.  As the sun sets behind the majestic mountains\, we'll gather with friends old and new surrounded by music\, laughter\, and the warmth of community and the beauty of horses.  Savor a gourmet dinner\, sip handcrafted cocktails\, and dance under a canopy of stars.\n\n \n\nAs the sun begins to set and the stars take their place above us\, we'll come together to celebrate\, connect\, and make a lasting impact.  More than just a night out it's a chance to belong\, to uplift\, and to be part of something truly meaningful.  Every moment spent here helps build a community where hope\, healing\, and friendship thrive.\n\n \nCome for the magic\, stay for the mission.\n\nGet your tickets here!
X-ALT-DESC;FMTTYPE=text/html:<br />\n<strong><span style="font-size:18px\;">Join us for an unforgettable evening where the magic of Medicine Horse comes alive beneath the breathtaking Colorado sky.&nbsp\; As the sun sets behind the majestic mountains\, we&rsquo\;ll gather with friends&mdash\;old and new&mdash\;surrounded by music\, laughter\, and the warmth of community and the beauty of horses.&nbsp\; Savor a gourmet dinner\, sip handcrafted cocktails\, and dance under a canopy of stars.</span></strong><br />\n<span style="font-size:18px\;">&nbsp\;<br />\n<strong>As the sun begins to set and the stars take their place above us\, we&rsquo\;ll come together to celebrate\, connect\, and make a lasting impact.&nbsp\; More than just a night out&mdash\;it&rsquo\;s a chance to belong\, to uplift\, and to be part of something truly meaningful.&nbsp\; Every moment spent here helps build a community where hope\, healing\, and friendship thrive.</strong></span><br />\n&nbsp\;\n<div style="text-align: center\;"><span style="font-size:18px\;"><strong>Come for the magic\, stay for the mission.<br />\n<span style="font-size:22px\;"><a href="https://bolder.bid/bidapp/index.php?slug=medicinehorse"><em>Get your tickets here!</em></a></span></strong></span><br />\n&nbsp\;</div>\n
LOCATION:
UID:e.3083.13458
SEQUENCE:3
DTSTAMP:20260421T064012Z
URL:https://members.longmontchamber.org/events/details/gala-at-the-ranch-under-the-stars-13458
END:VEVENT

END:VCALENDAR
