BEGIN:VCALENDAR
VERSION:2.0
PRODID:-//ChamberMaster//Event Calendar 2.0//EN
METHOD:PUBLISH
X-PUBLISHED-TTL:P3D
REFRESH-INTERVAL:P3D
CALSCALE:GREGORIAN
BEGIN:VEVENT
DTSTART:20250529T230000Z
DTEND:20250530T030000Z
X-MICROSOFT-CDO-ALLDAYEVENT:FALSE
SUMMARY:Gala Masquarade Ball 45th Anniversary Colorado Therapeutic Riding Center
DESCRIPTION:CTRC 45th Anniversary Masquerade Ball\n\n\n\n\n\nWe've got big plans to celebrate this momentous year\, starting with our 45th Anniversary Masquerade Ball on June 7th at the Boulder JCC! \n\n\n\nImagine a night of elegance and mystery\, with glittering masks\, delicious food and drink\, and captivating performances.  Step into a timeless world inspired by the grandeur and whimsy of 18th-century masquerades a celebration worthy of 45 years of service to our community.\n\n\n\nWe'll be unveiling some special surprises and partnerships that evening\, including exclusive art pieces by Laurie Prindle\, and we can't wait to share the joy with you.\n\n\n\nMark your calendars and get ready for a magical night!  For more information please check out our website: https://ctrcinc.org/45thanniversarygala/
X-ALT-DESC;FMTTYPE=text/html:<div>\n<div>\n<h1><br />\nCTRC 45th Anniversary Masquerade Ball</h1>\n</div>\n</div>\n\n<div>\n<div>\n<p><span style="font-size:20px\;">We&rsquo\;ve got big plans to celebrate this momentous year\, starting with our&nbsp\;<strong>45th Anniversary Masquerade Ball on June 7th at the Boulder JCC!</strong>&nbsp\;<br />\n<br />\nImagine a night of elegance and mystery\, with glittering masks\, delicious food and drink\, and captivating performances.&nbsp\; Step into a timeless world inspired by the grandeur and whimsy of 18th-century masquerades&mdash\;a celebration worthy of 45 years of service to our community.<br />\n<br />\nWe&rsquo\;ll be unveiling some special surprises and partnerships that evening\, including exclusive art pieces by Laurie Prindle\, and we can&rsquo\;t wait to share the joy with you.<br />\n<br />\nMark your calendars and get ready for a magical night!&nbsp\;&nbsp\;For more information please check out our website:&nbsp\;<a href="https://ctrcinc.org/45thanniversarygala/">https://ctrcinc.org/45thanniversarygala/</a></span></p>\n</div>\n</div>\n
LOCATION:Boulder JCC
UID:e.3083.13521
SEQUENCE:3
DTSTAMP:20260421T130911Z
URL:https://members.longmontchamber.org/events/details/gala-masquarade-ball-45th-anniversary-colorado-therapeutic-riding-center-13521
END:VEVENT

END:VCALENDAR
