BEGIN:VCALENDAR
VERSION:2.0
PRODID:-//ChamberMaster//Event Calendar 2.0//EN
METHOD:PUBLISH
X-PUBLISHED-TTL:P3D
REFRESH-INTERVAL:P3D
CALSCALE:GREGORIAN
BEGIN:VEVENT
DTSTART:20220501T190000Z
DTEND:20220501T220000Z
X-MICROSOFT-CDO-ALLDAYEVENT:FALSE
SUMMARY:Gala Performance featuring Don Quixote
DESCRIPTION:Classical ballet's favorite rom-com!\n\nDon Quixote dreams of adventure. He takes Sancho Panza on a quest in search of Dulcinea\, a woman Don Quixote believes to be so lovely and noble that she must be divinity. Join us for classical ballet's favorite rom-com\, live in the theater or in the comfort of your home through a livestream ticket! Special thanks to pianist Alaina DeBellevue for live accompaniment.
X-ALT-DESC;FMTTYPE=text/html:<p><span style="font-family:raleway\,sans-serif\,light italic\; font-size:2em">Classical ballet&rsquo\;s favorite rom-com!</span></p>\n\n<p>Don Quixote dreams of adventure. He takes Sancho Panza on a quest in search of Dulcinea\, a woman Don Quixote believes to be so lovely and noble that she must be divinity. Join us for classical ballet&rsquo\;s favorite rom-com\, live in the theater or in the comfort of your home through a livestream ticket! Special thanks to pianist Alaina DeBellevue for live accompaniment.</p>\n
LOCATION:Niwot High School Auditorium 8989 Niwot Rd Niwot\, CO 80503
UID:e.3083.8665
SEQUENCE:3
DTSTAMP:20260424T000047Z
URL:https://members.longmontchamber.org/events/details/gala-performance-featuring-don-quixote-05-01-2022-8665
END:VEVENT

END:VCALENDAR
