BEGIN:VCALENDAR
VERSION:2.0
PRODID:-//ChamberMaster//Event Calendar 2.0//EN
METHOD:PUBLISH
X-PUBLISHED-TTL:P3D
REFRESH-INTERVAL:P3D
CALSCALE:GREGORIAN
BEGIN:VEVENT
DTSTART:20220807T180000Z
DTEND:20220807T203000Z
X-MICROSOFT-CDO-ALLDAYEVENT:FALSE
SUMMARY:Garden Party\, A Senior Celebration
DESCRIPTION:Join us at Roosevelt Park Pavilion on Sunday\, August 7th to say farewell to the seniors of 2021/22 and welcome the 2022/23 Senior Company Members during the 3rd annual Garden Party. This engaging afternoon features original choreography of CSB youth company members with live accompaniment by Crystal Swing Band! Georgia Boys BBQ food truck will be on site for lunch or feel free to BYO picnic.\n \n\nSunday\, August 7th\n\n12PM | Lunch\n\n1PM | Performance\nTickets: https://csb.link/GardenPartyTickets or email boxoffice@centennialstateballet.org
X-ALT-DESC;FMTTYPE=text/html:<p><span style="background-color:transparent\; color:rgb(0\, 0\, 0)\; font-family:arial\; font-size:11pt">Join us at </span><a href="https://www.google.com/maps/place/City+of+Longmont+Roosevelt+Park/@40.1716595\,-105.1068788\,17z/data=!4m9!1m2!2m1!1sroosevelt+park!3m5!1s0x876bf973b29cfae1:0xd25fbe49009ce2c5!8m2!3d40.171779!4d-105.106161!15sCg5yb29zZXZlbHQgcGFya1oQIg5yb29zZXZlbHQgcGFya5IBBHBhcms?hl=en&amp\;authuser=0" style="text-decoration-line: none\;"><span style="background-color:transparent\; color:rgb(33\, 37\, 41)\; font-family:arial\; font-size:11pt">R</span></a><span style="background-color:transparent\; color:rgb(0\, 0\, 0)\; font-family:arial\; font-size:11pt">oosevelt Park Pavilion on Sunday\, August 7th to say farewell to the seniors of 2021/22 and welcome the 2022/23 Senior Company Members during the 3rd annual Garden Party. This engaging afternoon features original choreography of&nbsp\;CSB youth company members with live accompaniment by Crystal Swing Band! Georgia Boys BBQ food truck will be on site for lunch or feel free to BYO picnic.</span></p>\n&nbsp\;\n\n<p><strong><span style="background-color:transparent\; color:rgb(0\, 0\, 0)\; font-family:arial\; font-size:11pt">Sunday\, August 7th</span></strong></p>\n\n<p><span style="background-color:transparent\; color:rgb(0\, 0\, 0)\; font-family:arial\; font-size:11pt"><strong>12PM </strong>| Lunch</span></p>\n\n<p><span style="background-color:transparent\; color:rgb(0\, 0\, 0)\; font-family:arial\; font-size:11pt"><strong>1PM </strong>|<strong> </strong>Performance</span></p>\n<strong><span style="background-color:transparent\; color:rgb(0\, 0\, 0)\; font-family:arial\; font-size:11pt">Tickets:</span></strong><a href="https://csb.link/GardenPartyTickets" style="text-decoration-line: none\;"><span style="background-color:transparent\; color:rgb(17\, 85\, 204)\; font-family:arial\; font-size:11pt"><strong> </strong>https://csb.link/GardenPartyTickets</span></a><span style="background-color:transparent\; color:rgb(0\, 0\, 0)\; font-family:arial\; font-size:11pt"> or email boxoffice@centennialstateballet.org</span>
LOCATION:Roosevelt Park Pavilion 700 Longs Peak Ave Longmont\, CO 80501
UID:e.3083.8836
SEQUENCE:3
DTSTAMP:20260423T180641Z
URL:https://members.longmontchamber.org/events/details/garden-party-a-senior-celebration-08-07-2022-8836
END:VEVENT

END:VCALENDAR
