BEGIN:VCALENDAR
VERSION:2.0
PRODID:-//ChamberMaster//Event Calendar 2.0//EN
METHOD:PUBLISH
X-PUBLISHED-TTL:P3D
REFRESH-INTERVAL:P3D
CALSCALE:GREGORIAN
BEGIN:VEVENT
DTSTART:20200809T200000Z
DTEND:20200809T230000Z
X-MICROSOFT-CDO-ALLDAYEVENT:FALSE
SUMMARY:Garden Party: A Senior Celebration
DESCRIPTION:Garden Party: A Senior Celebration for all ages\, August 9th at 2 pm\, virtual event \n\nWith the first digital stage\, live performance of our 2020/21 Season: A Time to Dance\, Centennial State Ballet honors our outgoing seniors and present our incoming class of seniors! Join us virtually to show off your gorgeous summer garden and enjoy a beautiful streamed performance from our senior company members. Safer-At-Home picnics available in collaboration with Cheese Importers. \n\nTickets: bit.ly/SeniorGardenParty2020 \n\nEmail boxoffice@centennialstateballet.org. for more information
X-ALT-DESC;FMTTYPE=text/html:<p><em>Garden Party: A Senior Celebration</em>&nbsp\;for all ages\, August 9th at 2 pm\, virtual event&nbsp\;</p>\n\n<p>With the first digital stage\, live performance of our 2020/21 Season: A Time to Dance\, Centennial State Ballet&nbsp\;honors our&nbsp\;outgoing seniors and present our incoming class of seniors!&nbsp\;Join us virtually to show off your gorgeous summer garden and enjoy a beautiful streamed performance from our senior company members. Safer-At-Home picnics available in collaboration with Cheese Importers.&nbsp\;</p>\n\n<p><span style="color:rgb(0\, 0\, 0)">Tickets:&nbsp\;<a href="http://bit.ly/SeniorGardenParty2020">bit.ly/SeniorGardenParty2020</a>&nbsp\;</span></p>\n\n<p><span style="color:rgb(0\, 0\, 0)">Email&nbsp\;<a href="mailto:boxoffice@centennialstateballet.org">boxoffice@centennialstateballet.org</a></span><span style="color:rgb(0\, 0\, 0)">.</span><span style="color:rgb(0\, 0\, 0)">&nbsp\;for more information</span></p>\n
LOCATION:
UID:e.3083.7623
SEQUENCE:3
DTSTAMP:20260425T103706Z
URL:https://members.longmontchamber.org/events/details/garden-party-a-senior-celebration-7623
END:VEVENT

END:VCALENDAR
