BEGIN:VCALENDAR
VERSION:2.0
PRODID:-//ChamberMaster//Event Calendar 2.0//EN
METHOD:PUBLISH
X-PUBLISHED-TTL:P3D
REFRESH-INTERVAL:P3D
CALSCALE:GREGORIAN
BEGIN:VEVENT
DTSTART:20230521T190000Z
DTEND:20230521T220000Z
X-MICROSOFT-CDO-ALLDAYEVENT:FALSE
SUMMARY:Garden Tea Party Paint & Sip @ Callahan House
DESCRIPTION:Garden Tea Party\n\n\n\n\n\nCallahan House | Longmont\, CO\n\n\nPaint early spring flowers in watercolor with Coy Ink at the beautiful Callahan House gardens. Supplies\, tea\, & mugs included. Bring a chair\, hat\, layers (hot & cold)\, water\, and sunscreen.\n\n\n\nRegistration required\, tickets are $45-56.25
X-ALT-DESC;FMTTYPE=text/html:<div>\n<div>\n<div>\n<h2>Garden Tea Party</h2>\n</div>\n</div>\n\n<div>\n<div>\n<p><strong>Callahan House | Longmont\, CO</strong></p>\n</div>\n</div>\nPaint early spring flowers in watercolor with Coy Ink at the beautiful Callahan House gardens. Supplies\, tea\, &amp\; mugs included. Bring a chair\, hat\, layers (hot &amp\; cold)\, water\, and sunscreen.<br />\n<br />\nRegistration required\, tickets are $45-56.25</div>\n
LOCATION:Callahan House 312 Terry Street Longmont\, CO\, 80501
UID:e.3083.9650
SEQUENCE:3
DTSTAMP:20260423T033915Z
URL:https://members.longmontchamber.org/events/details/garden-tea-party-paint-sip-callahan-house-9650
END:VEVENT

END:VCALENDAR
