BEGIN:VCALENDAR
VERSION:2.0
PRODID:-//ChamberMaster//Event Calendar 2.0//EN
METHOD:PUBLISH
X-PUBLISHED-TTL:P3D
REFRESH-INTERVAL:P3D
CALSCALE:GREGORIAN
BEGIN:VEVENT
DTSTART;VALUE=DATE:20241221
DTEND;VALUE=DATE:20241222
TRANSP:TRANSPARENT
X-MICROSOFT-CDO-ALLDAYEVENT:TRUE
SUMMARY:Gift Wrapping!
DESCRIPTION:Thursday through Sunday: Let us handle the gift wrapping! ??\n\nSpend $25 or more and we'll wrap two gifts for free while you sit back and enjoy a beer (or two)! ??.\n\n.
X-ALT-DESC;FMTTYPE=text/html:Thursday through Sunday: Let us handle the gift wrapping! ??<br />\nSpend $25 or more and we&rsquo\;ll wrap two gifts for free while you sit back and enjoy a beer (or two)! ??.<br />\n.
LOCATION:
UID:e.3083.10715
SEQUENCE:3
DTSTAMP:20260421T204015Z
URL:https://members.longmontchamber.org/events/details/gift-wrapping-12-21-2024-10715
END:VEVENT

END:VCALENDAR
