BEGIN:VCALENDAR
VERSION:2.0
PRODID:-//ChamberMaster//Event Calendar 2.0//EN
METHOD:PUBLISH
X-PUBLISHED-TTL:P3D
REFRESH-INTERVAL:P3D
CALSCALE:GREGORIAN
BEGIN:VEVENT
DTSTART:20231130T230000Z
DTEND:20231201T020000Z
X-MICROSOFT-CDO-ALLDAYEVENT:FALSE
SUMMARY:Girls Night Out
DESCRIPTION:Meyers Aesthetic Center\, located at 1390 Dry Creek Drive (adjacent to Eye Care Center of Northern Colorado)\, is hosting a Girls Night Out! November 30th from 4-7. Stop by for hor d'oeuvres\, drinks\, prizes and giveaways!  SkinCeuticals will be there discussing their new chemical peels and answering all of your skin care questions. Christmas is just around the corner\, prepaid facials and ALL SkinCeuticals products are 25% off! Please RSVP to knwatts@eccnc.net\, thank you!
X-ALT-DESC;FMTTYPE=text/html:Meyers Aesthetic Center\, located at 1390 Dry Creek Drive (adjacent to Eye Care Center of Northern Colorado)\, is hosting a Girls Night Out! November 30th from 4-7. Stop by for hor d&#39\;oeuvres\, drinks\, prizes and giveaways!&nbsp\; SkinCeuticals will be there discussing their new chemical peels and answering all of your skin care questions. Christmas is just around the corner\, prepaid facials and ALL SkinCeuticals products are 25% off! Please RSVP to knwatts@eccnc.net\, thank you!
LOCATION:
UID:e.3083.9982
SEQUENCE:3
DTSTAMP:20260422T194839Z
URL:https://members.longmontchamber.org/events/details/girls-night-out-9982
END:VEVENT

END:VCALENDAR
