BEGIN:VCALENDAR
VERSION:2.0
PRODID:-//ChamberMaster//Event Calendar 2.0//EN
METHOD:PUBLISH
X-PUBLISHED-TTL:P3D
REFRESH-INTERVAL:P3D
CALSCALE:GREGORIAN
BEGIN:VEVENT
DTSTART:20241026T220000Z
DTEND:20241027T010000Z
X-MICROSOFT-CDO-ALLDAYEVENT:FALSE
SUMMARY:Good Life Fun & Dance
DESCRIPTION:Join us for an evening of country shenanigans at our "Good Life Fun & Dance" event! Get ready to kick up your heels with a line dancing lesson\, play family-friendly games like "Feed the Pig" cornhole and ladder toss\, try your luck at "Chicken Poop" Bingo\, enjoy a bonfire & s'mores and have a fantastic time with friends and family. Don't miss out on the fun   we can't wait to see you there!\n\n\n\nRegistration is required. $20 for adults\, free for kids 12 and under.\n\n\n\nAll funds raised support the mission of the Good Life Refuge to provide a safe haven for at-risk\, neglected\, and abused farm animals.
X-ALT-DESC;FMTTYPE=text/html:<span style="font-size:14px"><span style="font-family:proxima n w01 smbd">Join us for an evening of country shenanigans at our &quot\;Good Life Fun &amp\; Dance&quot\; event! Get ready to kick up your heels with a line dancing lesson\, play family-friendly games like &ldquo\;Feed the Pig&rdquo\; cornhole and ladder toss\, try your luck at &ldquo\;Chicken Poop&rdquo\; Bingo\, enjoy a bonfire &amp\; s&rsquo\;mores and have a fantastic time with friends and family. Don&#39\;t miss out on the fun &ndash\; we can&#39\;t wait to see you there!<br />\n<br />\nRegistration is required. $20 for adults\, free for kids 12 and under.<br />\n<br />\nAll funds raised support the mission of the Good Life Refuge to provide a safe haven for at-risk\, neglected\, and abused farm animals.</span></span>
LOCATION:
UID:e.3083.10240
SEQUENCE:3
DTSTAMP:20260421T235404Z
URL:https://members.longmontchamber.org/events/details/good-life-fun-dance-10240
END:VEVENT

END:VCALENDAR
