BEGIN:VCALENDAR
VERSION:2.0
PRODID:-//ChamberMaster//Event Calendar 2.0//EN
METHOD:PUBLISH
X-PUBLISHED-TTL:P3D
REFRESH-INTERVAL:P3D
CALSCALE:GREGORIAN
BEGIN:VEVENT
DTSTART:20220308T220000Z
DTEND:20220309T010000Z
X-MICROSOFT-CDO-ALLDAYEVENT:FALSE
SUMMARY:Graphic Design Workshop for Small Businesses & Startups
DESCRIPTION:In this class we'll review your brand standards (logo\, colors & fonts) and create a quick cheat sheet for you to take back to the office and use when you design. We'll also cover free and paid design programs you can use to save time. You'll also receive a free graphic design basics cheat sheet to use during and after the class.\n\nWhen: Tues March 8th at 3:00   6:00 pm\n\nPrice: $75 LPM members | $100 non-members\n\nDuration: 3 hours\n\nLocation: In Person @ Longmont Public Media   457 4th Ave\, Longmont\, CO 80501\n\nSkill Level(s): Newbie   Intermediate\n\nMax Class Size: 10 students\n\nRegister for the class here: https://longmontpublicmedia.org/events/graphic-design-workshop-for-small-businesses-startups/\n\n \n\nAbout the instructor:\n\nAmanda Maldonado\, aka Coy Ink\, is a local artist and graphic designer. She has 7 years of experience as a graphic designer and 3 of them as an art director for Simply Organic. During her time as a graphic designer\, the thing she loved most was helping others learn how to design more easily and efficiently. Amanda now works full time as a creative consultant and community helper. You can contact Amanda directly at hello@coyinkstudio.com or (720) 340-2016.
X-ALT-DESC;FMTTYPE=text/html:<p>In this class we&rsquo\;ll review your brand standards (logo\, colors &amp\; fonts) and create a quick cheat sheet for you to take back to the office and use when you design. We&rsquo\;ll also cover free and paid design programs you can use to save time. You&rsquo\;ll also receive a free graphic design basics cheat sheet to use during and after the class.</p>\n\n<p>When: Tues March 8th at 3:00 &ndash\; 6:00 pm<br />\nPrice: $75 LPM members | $100 non-members<br />\nDuration: 3 hours<br />\nLocation: In Person @ Longmont Public Media &ndash\; 457 4th Ave\, Longmont\, CO 80501<br />\nSkill Level(s): Newbie &ndash\; Intermediate<br />\nMax Class Size: 10 students</p>\n\n<p>Register for the class here:&nbsp\;https://longmontpublicmedia.org/events/graphic-design-workshop-for-small-businesses-startups/<br />\n&nbsp\;</p>\n\n<h4>About the instructor:</h4>\n\n<p>Amanda Maldonado\, aka Coy Ink\, is a local artist and graphic designer. She has 7 years of experience as a graphic designer and 3 of them as an art director for Simply Organic. During her time as a graphic designer\, the thing she loved most was helping others learn how to design more easily and efficiently. Amanda now works full time as a creative consultant and community helper. You can contact Amanda directly at hello@coyinkstudio.com or (720) 340-2016.</p>\n
LOCATION:Longmont Public Media
UID:e.3083.8666
SEQUENCE:3
DTSTAMP:20260424T013515Z
URL:https://members.longmontchamber.org/events/details/graphic-design-workshop-for-small-businesses-startups-8666
END:VEVENT

END:VCALENDAR
