BEGIN:VCALENDAR
VERSION:2.0
PRODID:-//ChamberMaster//Event Calendar 2.0//EN
METHOD:PUBLISH
X-PUBLISHED-TTL:P3D
REFRESH-INTERVAL:P3D
CALSCALE:GREGORIAN
BEGIN:VEVENT
DTSTART:20240926T220000Z
DTEND:20240926T230000Z
X-MICROSOFT-CDO-ALLDAYEVENT:FALSE
SUMMARY:Ground Breaking | Inn Between - Ground Breaking Ceremony!
DESCRIPTION:Join us in celebrating the groundbreaking of the new housing project for the Inn Between!\n\n \nFor 31 years\, The Inn Between (TIB) has been at the forefront of fighting homelessness in the St. Vrain Valley. Founded in 1993 by 23 community agencies\, the nonprofit has grown to own and operate six buildings\, providing 87 affordable housing units to low-income households. Today\, TIB continues to expand its impact with the development of Wesley Townhomes\, a new affordable housing project inspired and named by the Heart of Longmont United Methodist Church. The church chose the name based on John Wesley's powerful words: "Do all the good you can\, in all the ways you can\, to all the souls you can\, in every place you can\, at all the times you can\, with all the zeal you can\, as long as ever you can."\n\nThanks to Heart of Longmont UM Church's generous donation of a   acre parcel of land\, Wesley Townhomes will provide eleven 2- and 3-bedroom units for families earning 40% of the area median income (AMI). The project is a collaborative effort to address the ongoing affordable housing crisis\, which is compounded by a shortage of 2\,173 units for households earning below 50% of the AMI (Root Research 2021).\n\nWesley Townhomes will not only offer affordable housing but also include a community education center\, a playground\, and a community garden\, fostering a supportive and nurturing environment. The townhomes will feature neuro-inclusive designs\, catering to families with neurodivergent needs\, and will be built to Passive House standards\, ensuring energy efficiency and sustainability.\n\nA groundbreaking event for Wesley Townhomes will be held on September 26th from 4:00 PM to 6:00 PM\, marking the beginning of this vital community project.\n\nThis project highlights TIB's unwavering commitment to reducing housing disparity\, promoting health equity\, and creating long-term solutions for underprivileged families in the local community.\n\nEvent Details:\n\nWesley Townhomes Groundbreaking Event\n\nDate/Time: September 26th\, 2024 from 4:00PM   6:00PM\n\nLocation: 350 11th Ave\, Longmont\, CO 80501\n\nContact:\n\nTim Rakow\, Executive Director\n\ntheinn@innbetween.org\n\n(303) 684-0810
X-ALT-DESC;FMTTYPE=text/html:Join us in celebrating the groundbreaking of the new housing project for the Inn Between!<br />\n&nbsp\;\n<p>For 31 years\, The Inn Between (TIB) has been at the forefront of fighting homelessness in the St. Vrain Valley. Founded in 1993 by 23 community agencies\, the nonprofit has grown to own and operate six buildings\, providing 87 affordable housing units to low-income households. Today\, TIB continues to expand its impact with the development of Wesley Townhomes\, a new affordable housing project inspired and named by the Heart of Longmont United Methodist Church. The church chose the name based on John Wesley&rsquo\;s powerful words:&nbsp\;&ldquo\;Do all the good you can\, in all the ways you can\, to all the souls you can\, in every place you can\, at all the times you can\, with all the zeal you can\, as long as ever you can.&rdquo\;</p>\n\n<p>Thanks to Heart of Longmont UM Church&rsquo\;s generous donation of a &frac34\; acre parcel of land\, Wesley Townhomes will provide eleven 2- and 3-bedroom units for families earning 40% of the area median income (AMI). The project is a collaborative effort to address the ongoing affordable housing crisis\, which is compounded by a shortage of 2\,173 units for households earning below 50% of the AMI (Root Research 2021).</p>\n\n<p>Wesley Townhomes will not only offer affordable housing but also include a community education center\, a playground\, and a community garden\, fostering a supportive and nurturing environment. The townhomes will feature neuro-inclusive designs\, catering to families with neurodivergent needs\, and will be built to Passive House standards\, ensuring energy efficiency and sustainability.</p>\n\n<p>A groundbreaking event for Wesley Townhomes will be held on September 26th from 4:00 PM to 6:00 PM\, marking the beginning of this vital community project.</p>\n\n<p>This project highlights TIB&rsquo\;s unwavering commitment to reducing housing disparity\, promoting health equity\, and creating long-term solutions for underprivileged families in the local community.</p>\n\n<p>Event Details:</p>\n\n<p>Wesley Townhomes Groundbreaking Event</p>\n\n<p>Date/Time: September 26th\, 2024 from 4:00PM &ndash\; 6:00PM</p>\n\n<p>Location: 350 11th Ave\, Longmont\, CO 80501</p>\n\n<p>Contact:</p>\n\n<p>Tim Rakow\, Executive Director<br />\n<a data-linkindex="0" href="mailto:theinn@innbetween.org">theinn@innbetween.org</a></p>\n\n<p>(303) 684-0810&nbsp\;</p>\n
LOCATION:
UID:e.3083.10186
SEQUENCE:3
DTSTAMP:20260422T013452Z
URL:https://members.longmontchamber.org/events/details/ground-breaking-inn-between-ground-breaking-ceremony-10186
END:VEVENT

END:VCALENDAR
