BEGIN:VCALENDAR
VERSION:2.0
PRODID:-//ChamberMaster//Event Calendar 2.0//EN
METHOD:PUBLISH
X-PUBLISHED-TTL:P3D
REFRESH-INTERVAL:P3D
CALSCALE:GREGORIAN
BEGIN:VEVENT
DTSTART:20250409T001500Z
DTEND:20250409T021500Z
X-MICROSOFT-CDO-ALLDAYEVENT:FALSE
SUMMARY:Group Open Sing for Women and Non-Binary Folks of All Ages
DESCRIPTION:Join Monica Marie LaBonte\, Carly Ricks Smith & Annie McGregor for a joyful\, welcoming sing-along!\n\nNo vocal experience needed.\n\nCome harmonize\, connect\, and make new friends!
X-ALT-DESC;FMTTYPE=text/html:<br />\n<span style="font-size:22px\;"><span style="color: rgb(78\, 56\, 21)\; font-family: avenir-lt-w01_85-heavy1475544\, sans-serif\;">Join Monica Marie LaBonte\, Carly Ricks Smith &amp\; Annie McGregor for a joyful\, welcoming sing-along!<br />\nNo vocal experience needed.<br />\nCome harmonize\, connect\, and make new friends!&nbsp\;</span></span>
LOCATION:Butterscotch Studios
UID:e.3083.12694
SEQUENCE:3
DTSTAMP:20260421T143333Z
URL:https://members.longmontchamber.org/events/details/group-open-sing-for-women-and-non-binary-folks-of-all-ages-12694
END:VEVENT

END:VCALENDAR
