BEGIN:VCALENDAR
VERSION:2.0
PRODID:-//ChamberMaster//Event Calendar 2.0//EN
METHOD:PUBLISH
X-PUBLISHED-TTL:P3D
REFRESH-INTERVAL:P3D
CALSCALE:GREGORIAN
BEGIN:VEVENT
DTSTART:20250205T160000Z
DTEND:20250205T170000Z
X-MICROSOFT-CDO-ALLDAYEVENT:FALSE
SUMMARY:Grown Up and Me Music Class - Free Demo with Carly Parker
DESCRIPTION:Music Kids Presents:\n\nFree Grown Up and Me Music Class Demo at Butterscotch Studios\n\nHosted by Carly Parker\n\nFEBRUARY 5th\n\nInfants (0-24mos) 9-9:20am\n\nToddlers (18mos-4yrs) 9:30-10am\n\nMusic Kids is a fun and interactive\, early childhood music program that integrates a variety of musical activities.\n\nMovement\, drums\, percussion instruments\, puppets\, scarves\, rhythm sticks\, shaky eggs\, parachutes\, and musical games are all utilized to create a unique and exciting class experience.\n\nSign up for a 6 week course Today! Share the world of music with your child in this Guardian Accompanied Class!
X-ALT-DESC;FMTTYPE=text/html:<div>Music Kids Presents:<br />\nFree Grown Up and Me Music Class Demo at Butterscotch Studios<br />\nHosted by Carly Parker<br />\nFEBRUARY 5th<br />\nInfants (0-24mos) 9-9:20am<br />\nToddlers (18mos-4yrs) 9:30-10am</div>\n\n<div>Music Kids is a fun and interactive\, early childhood music program that integrates a variety of musical activities.<br />\nMovement\, drums\, percussion instruments\, puppets\, scarves\, rhythm sticks\, shaky eggs\, parachutes\, and musical games are all utilized to create a unique and exciting class experience.</div>\n\n<div>Sign up for a 6 week course Today! Share the world of music with your child in this Guardian Accompanied Class!</div>\n
LOCATION:Butterscotch Studios
UID:e.3083.10765
SEQUENCE:3
DTSTAMP:20260421T190530Z
URL:https://members.longmontchamber.org/events/details/grown-up-and-me-music-class-free-demo-with-carly-parker-10765
END:VEVENT

END:VCALENDAR
