BEGIN:VCALENDAR
VERSION:2.0
PRODID:-//ChamberMaster//Event Calendar 2.0//EN
METHOD:PUBLISH
X-PUBLISHED-TTL:P3D
REFRESH-INTERVAL:P3D
CALSCALE:GREGORIAN
BEGIN:VEVENT
DTSTART:20250305T160000Z
DTEND:20250305T170000Z
X-MICROSOFT-CDO-ALLDAYEVENT:FALSE
SUMMARY:Grown Up and Me Music Class with Carly Parker
DESCRIPTION:Music Kids is a fun and interactive\, early childhood music program that integrates a variety of musical activities. movement\, drums\, percussion instruments\, puppets\, scarves\, rhythm sticks\, shaky eggs\, parachutes\, and musical games are all utilized to create a unique and exciting class Experience. share the world of music with your child in this 6 week\, Guardian Accompanied Class! \n\n\n\nCarly is an experienced musician with a BA in Music from the University of Colorado\, Boulder. She has been teaching music at all levels for the past 9 years and absolutely loves sharing the expressive art with the world. A classically trained vocalist\, she also plays and teaches piano\, guitar\, ukulele\, and mandolin. Carly is thrilled to be bringing Music Kids to preschools and centers around the Front Range. Music is present in so many facets of life. An early introduction in an accessible and engaging atmosphere is a priceless experience. Carly loves working with children and strives to bring fun and joy to every class\, and to instill a lifelong love and enjoyment of music.
X-ALT-DESC;FMTTYPE=text/html:<br />\n<br />\n<span style="font-size:20px\;"><tt><span style="color:rgb(36\, 44\, 137)"><span style="font-family:comic sans ms">Music Kids is a fun and interactive\, early childhood music program that integrates a variety of musical activities. movement\, drums\, percussion instruments\, puppets\, scarves\, rhythm sticks\, shaky eggs\, parachutes\, and musical games are all utilized to create a unique and exciting class Experience. share the world of music with your child in this 6 week\, Guardian Accompanied Class!&nbsp\;</span></span><br />\n<br />\n<span style="font-family:comic sans ms"><span style="color:rgb(0\, 0\, 0)">Carly is an experienced musician with a BA in Music from the University of Colorado\, Boulder. She has been teaching music at all levels for the past 9 years and absolutely loves sharing the expressive art with the world. A classically trained vocalist\, she also plays and teaches piano\, guitar\, ukulele\, and mandolin. Carly is thrilled to be bringing Music Kids to preschools and centers around the Front Range. Music is present in so many facets of life. An early introduction in an accessible and engaging atmosphere is a priceless experience. Carly loves working with children and strives to bring fun and joy to every class\, and to instill a lifelong love and enjoyment of music.&nbsp\;</span></span></tt></span>
LOCATION:Butterscotch Studios
UID:e.3083.10910
SEQUENCE:3
DTSTAMP:20260421T160726Z
URL:https://members.longmontchamber.org/events/details/grown-up-and-me-music-class-with-carly-parker-03-05-2025-10910
END:VEVENT

END:VCALENDAR
