BEGIN:VCALENDAR
VERSION:2.0
PRODID:-//ChamberMaster//Event Calendar 2.0//EN
METHOD:PUBLISH
X-PUBLISHED-TTL:P3D
REFRESH-INTERVAL:P3D
CALSCALE:GREGORIAN
BEGIN:VEVENT
DTSTART:20260305T220000Z
DTEND:20260306T040000Z
X-MICROSOFT-CDO-ALLDAYEVENT:FALSE
SUMMARY:Half Price Bottle Night & Live Music
DESCRIPTION:Book your reservation for 1/2 Price Bottle Night and live music with Tom Moran.  Music is from 5pm-8pm.\n\nHalf Price Bottle Night is all evening from 3pm-9pm.
X-ALT-DESC;FMTTYPE=text/html:<p><span style="font-size:18px\;">Book your reservation for 1/2 Price Bottle Night and live music with Tom Moran.&nbsp\; Music is from 5pm-8pm.</span></p>\n\n<p><span style="font-size:18px\;">Half Price Bottle Night is all evening from 3pm-9pm.</span></p>\n
LOCATION:Kuper Wine Bar
UID:e.3083.10999
SEQUENCE:3
DTSTAMP:20260420T225343Z
URL:https://members.longmontchamber.org/events/details/half-price-bottle-night-live-music-03-05-2026-10999
END:VEVENT

END:VCALENDAR
